BEGIN:VCALENDAR
VERSION:2.0
PRODID:-//PROLOG - ECPv6.5.0.1//NONSGML v1.0//EN
CALSCALE:GREGORIAN
METHOD:PUBLISH
X-WR-CALNAME:PROLOG
X-ORIGINAL-URL:https://prolog.ee
X-WR-CALDESC:Events for PROLOG
REFRESH-INTERVAL;VALUE=DURATION:PT1H
X-Robots-Tag:noindex
X-PUBLISHED-TTL:PT1H
BEGIN:VTIMEZONE
TZID:Europe/Tallinn
BEGIN:DAYLIGHT
TZOFFSETFROM:+0200
TZOFFSETTO:+0300
TZNAME:EEST
DTSTART:20200329T010000
END:DAYLIGHT
BEGIN:STANDARD
TZOFFSETFROM:+0300
TZOFFSETTO:+0200
TZNAME:EET
DTSTART:20201025T010000
END:STANDARD
END:VTIMEZONE
BEGIN:VEVENT
DTSTART;VALUE=DATE:20200505
DTEND;VALUE=DATE:20200509
DTSTAMP:20260425T153125
CREATED:20190531T123818Z
LAST-MODIFIED:20200427T071247Z
UID:16582-1588636800-1588982399@prolog.ee
SUMMARY:Tarneahelajuhi arenguprogramm: VI moodul. Transpordilogistika ja väliskaubandus
DESCRIPTION:Tere tulemast PROLOG tarneahela akadeemia Tarneahelajuhi arenguprogrammi 2019/2020 aasta VI moodulisse! \n5.-8. mail toimub virtuaalselt varem ära jäänud moodul. Igal hommikul (05.05\, 06.05\, 07.05 ja 08.05) kell 09.00 – 12.00. \nIncoterms\, rahvusvahelised konventsioonid ja lepingud\, kaasnevad riskid ja riskide maandamise viisid\, logistikateenused\, veo- ja ekspedeerimislepingud\, vedaja vastutus-\, ekspedeerija vastus- ja veosekindlustus. \nKoolitajad: Tõnis Hintsov ja Tiit Tammemägi \nLisainfo ja registreerimine: http://prolog.ee/akadeemia/
URL:https://prolog.ee/sundmused/tarneahelajuhi-arenguprogramm-2019-v-moodul-transpordilogistika-ja-valiskaubandus/
CATEGORIES:Eesootavad üritused,Möödunud üritused,Üritus
ATTACH;FMTTYPE=image/jpeg:https://prolog.ee/wp-content/uploads/2018/08/SCA_logo.jpg
ORGANIZER;CN="Janek Popell":MAILTO:janek.popell@prolog.ee
END:VEVENT
END:VCALENDAR