BEGIN:VCALENDAR
VERSION:2.0
PRODID:-//PROLOG - ECPv6.5.0.1//NONSGML v1.0//EN
CALSCALE:GREGORIAN
METHOD:PUBLISH
X-ORIGINAL-URL:https://prolog.ee
X-WR-CALDESC:Events for PROLOG
REFRESH-INTERVAL;VALUE=DURATION:PT1H
X-Robots-Tag:noindex
X-PUBLISHED-TTL:PT1H
BEGIN:VTIMEZONE
TZID:Europe/Tallinn
BEGIN:DAYLIGHT
TZOFFSETFROM:+0200
TZOFFSETTO:+0300
TZNAME:EEST
DTSTART:20200329T010000
END:DAYLIGHT
BEGIN:STANDARD
TZOFFSETFROM:+0300
TZOFFSETTO:+0200
TZNAME:EET
DTSTART:20201025T010000
END:STANDARD
END:VTIMEZONE
BEGIN:VEVENT
DTSTART;VALUE=DATE:20200311
DTEND;VALUE=DATE:20200314
DTSTAMP:20260426T011210
CREATED:20200210T072528Z
LAST-MODIFIED:20200228T073201Z
UID:16918-1583884800-1584143999@prolog.ee
SUMMARY:PROLOGi õppereis Saksamaale 11-13.märts 2020
DESCRIPTION:Kutsume Sind osalema PROLOGi poolt korraldatavale õppereisile reisile Saksamaale\, mille raames külastame : \n\nLogimat messi Stuttgardis. Logimat on üks suurim iga-aastaselt toimuv siselogistikale ja tarneahela juhtimisele keskendunud rahvusvaheline mess;\nMercedes-Benz Sindelfingen tehast.\n\nAJAKAVA \nPäev 1\, kolmapäev 11.03 \n\n\n\n06:50 – 09:40\nLennureis Tallinn – Frankfurt – Stuttgardt\n\n\n \nMajutumine ja sõit messile\n\n\n11:30 – 18:00\nLogimat messi külastus \nWorld leading trade fair for intralogistics and supply chain management\n\n\n19:00-\nÕhtusöök ja vaba aeg\n\n\n\nPäev 2  neljapäev\, 12.03\, \n\n\n\n08:00 – 8:30\nHommikusöök\n\n\n08:30 – 9:30\nVäljasõit  bussiga Sindelfingenisse\n\n\n10.00 – 12:00\nMercedes-Benz Sindelfingen tehase külastus\n\n\n12:00 – 13:00\nVäljasõit Sindelfingen – Stuttgardt\n\n\n13:00 – 15:00\nKohtumine Stuttgardi ülikooli esindajatega või ettevõttekülastus ( kinnitamisel)\n\n\n15:00 – 19:00\nVaba aeg\n\n\n19:00 –\nÜhine õhtusöök \n\n\n\nPäev 3  – neljapäev\, 26.04 \n\n\n\n08:00 – 09:00\nHommikusöök\n\n\n10:00 – 16:30\nLogimat messi külastus\n\n\n18.50 – 23.55\nLend Stuttgart- Frankfurt – Tallinn\n\n\n\nReisi maksumus ja tingimused: \nPROLOGi liikmele – 1090 EUR\,\nMitteliikmele – 1190 EUR\nHinnad ei sisalda käibemaksu. \nPaketid sisaldavad: \n\nlennupiletid koos lennujaamamaksudega;\nhotellimajutused 2 ööd koos hommikusöökidega;\nkohapealne transport;\nLogimat messi ja ettevõtete külatused;\n1 õhtusöök (ei sisalda alkohoolseid jooke );\nKohaliku giidi teenuseid .\n\nÜheses toas ööbimise lisatasu 90 EUR \nNB! Kohtade arv on piiratud ning broneeringu tühistamisel raha ei tagastata. \nKorraldajal on õigus teha kavas muudatusi ning reisitasu suurust tõsta (kui see vajadus on tekkinud lennupiletite hinna muutumisest). \nLisainfo ja registreerumine: info@prolog.ee
URL:https://prolog.ee/sundmused/prologi-oppereis-saksamaale-11-13-marts-2020/
LOCATION:Stuttgart\, Saksamaa
CATEGORIES:Eesootavad üritused,Üritus
ATTACH;FMTTYPE=image/png:https://prolog.ee/wp-content/uploads/2020/02/lm-key-visual-2020.png
END:VEVENT
END:VCALENDAR