BEGIN:VCALENDAR
VERSION:2.0
PRODID:-//PROLOG - ECPv6.5.0.1//NONSGML v1.0//EN
CALSCALE:GREGORIAN
METHOD:PUBLISH
X-WR-CALNAME:PROLOG
X-ORIGINAL-URL:https://prolog.ee
X-WR-CALDESC:Events for PROLOG
REFRESH-INTERVAL;VALUE=DURATION:PT1H
X-Robots-Tag:noindex
X-PUBLISHED-TTL:PT1H
BEGIN:VTIMEZONE
TZID:Europe/Tallinn
BEGIN:DAYLIGHT
TZOFFSETFROM:+0200
TZOFFSETTO:+0300
TZNAME:EEST
DTSTART:20240331T010000
END:DAYLIGHT
BEGIN:STANDARD
TZOFFSETFROM:+0300
TZOFFSETTO:+0200
TZNAME:EET
DTSTART:20241027T010000
END:STANDARD
END:VTIMEZONE
BEGIN:VEVENT
DTSTART;TZID=Europe/Tallinn:20241210T150000
DTEND;TZID=Europe/Tallinn:20241210T190000
DTSTAMP:20260422T125329
CREATED:20241129T114139Z
LAST-MODIFIED:20241203T131514Z
UID:19442-1733842800-1733857200@prolog.ee
SUMMARY:10. detsembril Prolog jõuluseminar
DESCRIPTION:Hea Prologi liige ja koostööpartner\, \nJõulud lähenevad ja taas hakkab üks aastaring täis saama. \nKutsume sind 10. detsembril Kompu restorani (Tammsaare pargi paviljon\, Pärnu mnt. 3\, Tallinn) juba traditsiooniks saanud jõuluseminarile. \nSeekord räägime kahel teemal: \n– Kuidas minna kaubaveol 2025.aastal paberivabaks kasutades selleks EIS toetust kaubavedude digitataliseerimiseks\n– Kuidas minna oma toodetega Aasia turgudele tehes koostööd Soome ettevõtetega. \nAlustame kell 15:00 kogunemisega\, seminar algab 15:15.\nSeminari teemadel räägime orienteeruvalt kuni kella viieni\, seejärel on aeg aastat kokkuvõtvateks vestlusteks\, võrgustumiseks ning jõuluglögiks ja suupisteteks.
URL:https://prolog.ee/sundmused/10-detsembril-prolog-jouluseminar/
ATTACH;FMTTYPE=image/png:https://prolog.ee/wp-content/uploads/2024/11/10.12.2024-148-x-105-mm.png
END:VEVENT
END:VCALENDAR