BEGIN:VCALENDAR
VERSION:2.0
PRODID:-//PROLOG - ECPv6.5.0.1//NONSGML v1.0//EN
CALSCALE:GREGORIAN
METHOD:PUBLISH
X-WR-CALNAME:PROLOG
X-ORIGINAL-URL:https://prolog.ee
X-WR-CALDESC:Events for PROLOG
REFRESH-INTERVAL;VALUE=DURATION:PT1H
X-Robots-Tag:noindex
X-PUBLISHED-TTL:PT1H
BEGIN:VTIMEZONE
TZID:Europe/Tallinn
BEGIN:DAYLIGHT
TZOFFSETFROM:+0200
TZOFFSETTO:+0300
TZNAME:EEST
DTSTART:20240331T010000
END:DAYLIGHT
BEGIN:STANDARD
TZOFFSETFROM:+0300
TZOFFSETTO:+0200
TZNAME:EET
DTSTART:20241027T010000
END:STANDARD
END:VTIMEZONE
BEGIN:VEVENT
DTSTART;TZID=Europe/Tallinn:20240917T133000
DTEND;TZID=Europe/Tallinn:20240917T160000
DTSTAMP:20260422T172240
CREATED:20240909T121642Z
LAST-MODIFIED:20240909T121642Z
UID:19418-1726579800-1726588800@prolog.ee
SUMMARY:Ettevõtte külastus - Euronics 17. septembril
DESCRIPTION:Sügis on saabumas ning meie alustame taas ettevõtete külastustega. 17. septembril viib esimene külaskäik meid Euronicsi lattu\, koguneme kell 13:45 ning alustame kell 14.00.\nLao aadress on Raeküla tee 5\, lattu sisse saab estakaad nr 33 kõrvalt. Sissesõiduks avaneb tõkkepuu automaatselt ja estakaad nr 33 vastas on parkimiskohad. \nOsalemiseks on vajalik eelnev registreerimine. \n\nEuronics kuulub Euroopa suurimasse elektroonikakaupade ostugruppi Euronics International\, mis tegutseb 35 riigis ning mille liikmed pakuvad elektroonikakaupu ja kodutehnikat enam kui 600 miljonile tarbijale üle Euroopa. Ettevõte tegutseb Eestis alates aastast 1999.
URL:https://prolog.ee/sundmused/ettevotte-kulastus-euronics-17-septembril/
LOCATION:Euronics ladu\, Raeküla tee 5
ATTACH;FMTTYPE=image/png:https://prolog.ee/wp-content/uploads/2024/09/Allalaaditud-fail-2.png
END:VEVENT
END:VCALENDAR