BEGIN:VCALENDAR
VERSION:2.0
PRODID:-//PROLOG - ECPv6.5.0.1//NONSGML v1.0//EN
CALSCALE:GREGORIAN
METHOD:PUBLISH
X-WR-CALNAME:PROLOG
X-ORIGINAL-URL:https://prolog.ee
X-WR-CALDESC:Events for PROLOG
REFRESH-INTERVAL;VALUE=DURATION:PT1H
X-Robots-Tag:noindex
X-PUBLISHED-TTL:PT1H
BEGIN:VTIMEZONE
TZID:Europe/Tallinn
BEGIN:DAYLIGHT
TZOFFSETFROM:+0200
TZOFFSETTO:+0300
TZNAME:EEST
DTSTART:20240331T010000
END:DAYLIGHT
BEGIN:STANDARD
TZOFFSETFROM:+0300
TZOFFSETTO:+0200
TZNAME:EET
DTSTART:20241027T010000
END:STANDARD
END:VTIMEZONE
BEGIN:VEVENT
DTSTART;TZID=Europe/Tallinn:20240502T153000
DTEND;TZID=Europe/Tallinn:20240502T170000
DTSTAMP:20260423T000918
CREATED:20240415T093224Z
LAST-MODIFIED:20240415T101622Z
UID:19345-1714663800-1714669200@prolog.ee
SUMMARY:02.05.2024 Prolog Logistikaklubi kutsub Tallinna Tehnikakõrgkooli „Mõtteveole“\, üritus algab kell 16.00.
DESCRIPTION:Koos TTK tudengite eestvedamisel toimuva Mõtteveo raames toimub kohtumine DSV juhi Alvar Tõrukesega\, mille järel on võimalus osaleda ka meeskondlikus logistikasimulatioonimängus ja viktoriinis.  Mõttetalgutega kaasneb ka võrgustamine suupistete ja klaasikese veiniga.
URL:https://prolog.ee/sundmused/02-05-2024-prolog-logistikaklubi-kutsub-tallinna-tehnikakorgkooli-motteveole-uritus-algab-kell-16-00/
ATTACH;FMTTYPE=image/jpeg:https://prolog.ee/wp-content/uploads/2018/02/logistikaklubi-logo.jpg
END:VEVENT
BEGIN:VEVENT
DTSTART;TZID=Europe/Tallinn:20240506T080000
DTEND;TZID=Europe/Tallinn:20240509T170000
DTSTAMP:20260423T000918
CREATED:20240402T122432Z
LAST-MODIFIED:20240415T092947Z
UID:19290-1714982400-1715274000@prolog.ee
SUMMARY:6-9.05.2024 PROLOGi õppereis Saksamaale Hamburgisse
DESCRIPTION:Kutsume osalema PROLOG õppereisil Hamburgi. \nProgramm: \nAirbus S.A.S külastus\nAirbus on suurim lennukite tootja Euroopas olles ülemaailmselt tuntud nii oma kvaliteedi kui ka innovatiivsuse poolest kosmosetööstuses. Mitmed Airbusi tootmisüksused asuvad Hamburgis\, ulatudes varuosakeskusest kuni lõppmontaažini. Samuti asub Hamburgis Airbusi koolituskeskus. Hamburgis toimub ka A318\, A319 ja A321 lennuki tüüpide lõppmontaaž kahel tootmisliinil. Airbus S.A.S-i külastusel on Teil on võimalus tutvuda lennukite A320 ja A380 tootmisüksustega.\nAllikas: © https://www.flightglobal.com/airframers/airbus-looks-deep-into-long-haul-future/132537.article \nHamburgi sadama konteineterminali ( HHLA) külastus\nHamburger Hafen und Logistik AG (HHLA) on Euroopa juhtivaid logistikaettevõtteid\, mis on spetsialiseerunud sadamate käitlemisele\, konteinerite ja transpordilogistikale. HHLA võttis 2018. aasta juunis täielikult üle Eesti suurima terminalioperaatori Transiidikeskuse AS (TK). Hamburgi sadama neljast konteineriterminalist kolme haldab HHLA. Kõrge automatiseerituse astme ja kompaktse paigutuse poolest on HHLA konteineriterminal Altenwerder (CTA) suunanäitajaks konteinerite käitlemisel tulevikus ja seda peetakse tehnika viimaseks sõnaks kogu maailmas. Kaasaegne tehnoloogia ja uuenduslikud EDP-süsteemid tagavad tõhusa mahalaadimise ja eriti suurte konteinerlaevade laadimise ühes maailma moodsaimas konteineriterminalis.\nAllikas: © https://www.fotograf-hamburg.de/01_hafen_fotograf_hamburg/005_bilder_hamburg_frachter.html \nKohtumine Hamburgi Tehnoloogiaülikooli Logistiklaboriga ( kinnitamisel ) \nElbphilharmonie külastus\nElbphilharmonie\, rahva hüüdnimega Elphi\, on kontserdisaal ja vaateplatvorm Hamburgis HafenCity kvartalis Elbe jõe Grasbrooki poolsaarel. Keskus avati 2017 aastal ning modernne klaaskonstruktsioon meenutab heisatud purje\, veelainet\, jäämäge või kvartskristalli\, mis toetub ajaloolise Speicherstadti lähedal asuva vana telliskivilao otsas. \nLennuplaan:\nTallinn Helsinki 06-May-2024 06:55 06-May-2024 07:25\nHelsinki Hamburg 06-May-2024 10:40 06-May-2024 11:40 \nHamburg Helsinki 09-May-2024 08:20 09-May-2024 11:15\nHelsinki Tallinn 09-May-2024 12:00 09-May-2024 12:30 \n*Kuna eelmise õhtu lennupiletid on ebaloomulikult kallid\, siis on mõistlik tagasi lennata järgmisel hommikul. \nHind: PROLOG liikmele : 1290 eurot + km \nHind sisaldab ettevõttekülastusi ja sisspääsupileteid\, lennupileteid\, 3 ööbimist üheses toas ja kohalikku tarnsporti Hamburgis ning ühte ühist õhtusööki. \nLisainfo : info@prolog.ee\nTel 5100 582\nTõnis Hintsov
URL:https://prolog.ee/sundmused/6-8-05-2024-oppereis-saksamaale/
ATTACH;FMTTYPE=image/jpeg:https://prolog.ee/wp-content/uploads/2024/04/hafen_hamburg_c_hhm_hasenpusch_productions_1-scaled.jpg
END:VEVENT
BEGIN:VEVENT
DTSTART;TZID=Europe/Tallinn:20240514T080000
DTEND;TZID=Europe/Tallinn:20240516T170000
DTSTAMP:20260423T000918
CREATED:20240402T124725Z
LAST-MODIFIED:20240426T080747Z
UID:19332-1715673600-1715878800@prolog.ee
SUMMARY:Noor Meister 2024. Laotöötaja kutsemeistrivõistlus 14 - 15.mail
DESCRIPTION:Kutsume teid osa saama 14.–15.mail Eesti Näituste messikeskuses toimuvast kutsehariduse suursündmusest oskuste festival „Noor Meister 2024“\, mis toob kokku paarkümmend eriilmelist ja põnevat kutsemeistrivõistlust\, kus panevad end proovile andekad kutseõppurid üle kogu Eesti. Kutsekoolid tutvustavad oma tegemisi läbi töötubade\, pakkudes tegevusi igas vanuses festivalikülalistele! \nOskuste festivali ja töötubade taustal toimub mõlemal päeval paaritunnine seminar “Kuidas elad\, kutseharidus?” \nSeminarile ootame erialaliitude ja ettevõtete esindajaid\, praktikajuhendajaid\, võistlejate juhendajaid\, kutseõpetajaid\, karjäärispetsialiste\, üldhariduskoolide õpetajaid\, koolijuhte ja kõik huvilisi\, kes on tee messihalli leidnud. \n14.mai\n14:00 – 14:30 Kogu tõde kutsevõistlustest – Tiiu Parm\, Harno\n14:30 – 15:00 Kutseõppe kvaliteet – kellele seda vaja on? – Marge Kroonmäe\, HAKA\n15:00 – 15:30 Praktika ja töökohapõhine õpe kutsehariduses – Piret Lilover\, Harno\n15:30 – 16:00 Uuendused IT- ja inseneeriavaldkonna kutsekeskhariduses – senine kogemus ja tulevik – Signe Ambre\, Harno \n15.mai\n13:00 – 13:30 Mis võimalusi pakud\, kutseharidus? – Aulika Riisenberg/Marit Kuusk\, HTM\n13:30 – 14:00 Kutseeksamid – miks\, kellele ja kes lõikab kasu? – Tiia Randma\, Kutsekoda\n14:00 – 14:30 Haridustasemete vaheline koostöö – Raino Liblik\, Tallinna Mustamäe Riigigümnaasium\n14:30 – 15:00 Kuhu liigud\, kutseharidus? – Triin Laasi-Õige\, HTM \nTulge ja imetlege oma valdkonna tulevikutegijaid ning rääkige kaasa kutsehariduse teemadel! \nAnna palun oma tulekust hiljemalt 8.maiks märku siin.
URL:https://prolog.ee/sundmused/noor-meister-2024-laotootaja-kutsemeistrivoistlus-13-15-mail/
END:VEVENT
BEGIN:VEVENT
DTSTART;TZID=Europe/Tallinn:20240515T123000
DTEND;TZID=Europe/Tallinn:20240515T183000
DTSTAMP:20260423T000918
CREATED:20240510T105640Z
LAST-MODIFIED:20240510T105640Z
UID:19362-1715776200-1715797800@prolog.ee
SUMMARY:15.05 PROLOG koos LiMOWA ( FI) klastriga Tallinnas Euroopa Logistika Innovatsioonivõrgustiku kohtumine.
DESCRIPTION:15.05 korraldab PROLOG koos LiMOWA ( FI) klastriga Tallinnas Euroopa Logistika Innovatsioonivõrgustiku kohtumise. \nOrienteeruv päevakava:\n12.45 Kogunemine ja kerge lõuna Ülemiste Citys\n13.15 Tervitused ja avakõned\n13.30 – 15.00 e Estonia Showroomis eEesti tutvustus Bussiga Rail Baltikasse\n15.15- 15.45 Rail Baltica tutvustus ja diskussioon\n16.00 Seminar/ koosolek : Transpordi digitaliseerimine eFTi\, eCMR ja muud teemad\n18.30 Seminari lõpp \nOsalemise huvi korral palun kirjutage info@prolog.ee.
URL:https://prolog.ee/sundmused/15-05-prolog-koos-limowa-fi-klastriga-tallinnas-euroopa-logistika-innovatsioonivorgustiku-kohtumine/
END:VEVENT
BEGIN:VEVENT
DTSTART;TZID=Europe/Tallinn:20240516T080000
DTEND;TZID=Europe/Tallinn:20240517T170000
DTSTAMP:20260423T000918
CREATED:20240402T110450Z
LAST-MODIFIED:20240402T110450Z
UID:19256-1715846400-1715965200@prolog.ee
SUMMARY:16-17.05.2024 Tarneahela akadeemia VIII moodul: kvaliteet. Koolitaja Anneli Reinok
DESCRIPTION:1 päev. Tutvume kvaliteedijuhtimise olemusega. Saame teada\, mis on kvaliteedinäitajad ja kuidas mõõta kvaliteeti. Käsitleme kliendisuhete juhtimist\, klienditeeninduse strateegiat. Õpime kuidas mõõta kliendi teenindustaset ja arvutada tarnevõimet\, -täpsust ja -kindlust.  Uurime\, millised vealiigid esinevad logistika valdkonnas ja millised võivad olla nende tagajärjed. \n2 päev. Tutvume kvaliteedijuhtimise tööriistadega. Vaatame kuidas kaardistatakse ja seiratakse protsesse. Tutvume kvaliteedikulude määramise PAF mudeliga ja tõrgete liigi ning mõju analüüsiga. Õpime kasutama statistilisi meetodeid andmete analüüsimiseks ja esitlemiseks. Teeme praktiliselt läbi ühe probleemlahenduse rühmatööna kasutades erinevaid metoodikaid.
URL:https://prolog.ee/sundmused/16-17-05-2024-tarneahela-akadeemia-viii-moodul-kvaliteet-koolitaja-anneli-reinok/
ATTACH;FMTTYPE=image/png:https://prolog.ee/wp-content/uploads/2022/03/260261677_123501423458587_6388976415137990224_n.png
END:VEVENT
BEGIN:VEVENT
DTSTART;TZID=Europe/Tallinn:20240523T083000
DTEND;TZID=Europe/Tallinn:20240523T183000
DTSTAMP:20260423T000918
CREATED:20240402T123507Z
LAST-MODIFIED:20240516T080848Z
UID:19299-1716453000-1716489000@prolog.ee
SUMMARY:Prolog kutsub: logistikaklubi 23.mail
DESCRIPTION:Logistikaklubi raames kutsume 23.mail Prologi missioonile Ida -Virumaale. Külastame Auvere elektrijaama ja õlitööstust. \nAuvere elektrijaam on hea näide uue põlvkonna keskkonnasäästlikust elektritootmisest\, seal kasutatakse alternatiivseid\, sh taastuvaid energiaallikaid. Elektrijaama õhuheitmed on väiksemad kui Euroopa uutele elektrijaamadele kehtestatud normid. \nOsalemiseks on vajalik eelnev registreerimine\, kohtade arv on piiratud. \nVäljasõit Tallinnast Tehnikakõrgkooli juurest on 23.mail kell 09.00. Päeval sööme koos lõunat (igaühe omal kulul). \nRegistreerimisel anna palun teada\, kas vajad väljasõiduks transporti.
URL:https://prolog.ee/sundmused/prolog-kutsub-logistikaklubi-23-mail/
ATTACH;FMTTYPE=image/png:https://prolog.ee/wp-content/uploads/2024/04/Screenshot-2024-05-10-132512.png
END:VEVENT
END:VCALENDAR