BEGIN:VCALENDAR
VERSION:2.0
PRODID:-//PROLOG - ECPv6.5.0.1//NONSGML v1.0//EN
CALSCALE:GREGORIAN
METHOD:PUBLISH
X-WR-CALNAME:PROLOG
X-ORIGINAL-URL:https://prolog.ee
X-WR-CALDESC:Events for PROLOG
REFRESH-INTERVAL;VALUE=DURATION:PT1H
X-Robots-Tag:noindex
X-PUBLISHED-TTL:PT1H
BEGIN:VTIMEZONE
TZID:Europe/Tallinn
BEGIN:DAYLIGHT
TZOFFSETFROM:+0200
TZOFFSETTO:+0300
TZNAME:EEST
DTSTART:20240331T010000
END:DAYLIGHT
BEGIN:STANDARD
TZOFFSETFROM:+0300
TZOFFSETTO:+0200
TZNAME:EET
DTSTART:20241027T010000
END:STANDARD
END:VTIMEZONE
BEGIN:VEVENT
DTSTART;TZID=Europe/Tallinn:20240404T080000
DTEND;TZID=Europe/Tallinn:20240404T170000
DTSTAMP:20260423T020112
CREATED:20240402T111351Z
LAST-MODIFIED:20240402T111419Z
UID:19259-1712217600-1712250000@prolog.ee
SUMMARY:04.04.2024: Logistikaseminar 2024
DESCRIPTION:Logistikaseminar on Tallinna Tehnikakõrgkooli transpordi ja logistika kolmanda kursuse poolt korraldatud logistika suursündmus. Seminarist võtavad osa tudengid\, keskkooli õpilased ning logistikasektori ettevõtete esindajad. Esimene logistikaseminar toimus 2000. aastal ning sellest saati on olnud see iga aastane traditsioon. \nPROLOG toetab logistikaseminari korraldamist ning sel aastal viisime erinevate koolide logistika eriala üliõpilaste vahel Global Management Challenge ärisimulatsiooni mängu\, mida mängitakse üle maailma juba enam kui 40 aastat.\nLogistikaseminaril anname võitjatele üle auhinna.
URL:https://prolog.ee/sundmused/04-04-2024-logistikaseminar-2024/
ATTACH;FMTTYPE=image/png:https://prolog.ee/wp-content/uploads/2024/04/Screenshot-2024-04-02-141254.png
END:VEVENT
BEGIN:VEVENT
DTSTART;TZID=Europe/Tallinn:20240415T080000
DTEND;TZID=Europe/Tallinn:20240416T170000
DTSTAMP:20260423T020112
CREATED:20240402T122224Z
LAST-MODIFIED:20240402T122224Z
UID:19287-1713168000-1713286800@prolog.ee
SUMMARY:15-16.04.2024 IFPSM regional meeting
DESCRIPTION:Aprillis osalevad Prologi juhatuse liikmed IFPSM (https://www.ifpsm.org/)  kohtumisel.
URL:https://prolog.ee/sundmused/15-16-04-2024-ifpsm-regional-meeting/
ATTACH;FMTTYPE=image/jpeg:https://prolog.ee/wp-content/uploads/2017/06/IFPSM-web-logo.jpg
END:VEVENT
BEGIN:VEVENT
DTSTART;TZID=Europe/Tallinn:20240418T080000
DTEND;TZID=Europe/Tallinn:20240419T170000
DTSTAMP:20260423T020112
CREATED:20240402T110342Z
LAST-MODIFIED:20240402T110342Z
UID:19253-1713427200-1713546000@prolog.ee
SUMMARY:18-19.04.2024 Tarneahela akadeemia VII moodul: jaotuslogistika\, tagastuslogistika ja roheline logistika. Koolitaja Tarmo Tael
DESCRIPTION:Mida tähendab Inglismaalt pärit mõiste “milk run”? Kas vedada kaubiku või furgooniga? Mitu dispetšerit on vaja\, et planeerida ringile 10 tellimust päevas\, 1000 tellimust päevas? Miks kliendid tooteid tagastavad ja mis nendega pärast ette võtta. Neile ja ka paljudele teistele jaotuse ja tagastusega seotud küsimustele otsime moodulis vastust. Loomulikult mõeldes keskkonnasäästlikkusele.
URL:https://prolog.ee/sundmused/18-19-04-2024-tarneahela-akadeemia-vii-moodul-jaotuslogistika-tagastuslogistika-ja-roheline-logistika-koolitaja-tarmo-tael/
ATTACH;FMTTYPE=image/png:https://prolog.ee/wp-content/uploads/2022/03/260261677_123501423458587_6388976415137990224_n.png
END:VEVENT
BEGIN:VEVENT
DTSTART;TZID=Europe/Tallinn:20240422T080000
DTEND;TZID=Europe/Tallinn:20240426T170000
DTSTAMP:20260423T020112
CREATED:20240402T124524Z
LAST-MODIFIED:20240402T124524Z
UID:19326-1713772800-1714150800@prolog.ee
SUMMARY:CEMAT 22-26.aprillil Hannoveris
DESCRIPTION:
URL:https://prolog.ee/sundmused/cemat-22-26-aprillil-hannoveris/
ATTACH;FMTTYPE=image/png:https://prolog.ee/wp-content/uploads/2024/04/Screenshot-2024-04-02-154433.png
END:VEVENT
BEGIN:VEVENT
DTSTART;TZID=Europe/Tallinn:20240424T153000
DTEND;TZID=Europe/Tallinn:20240424T183000
DTSTAMP:20260423T020112
CREATED:20240402T124312Z
LAST-MODIFIED:20240415T090015Z
UID:19323-1713972600-1713983400@prolog.ee
SUMMARY:Prolog kutsub: logistikaklubi 24. aprillil
DESCRIPTION:PROLOG Logistikaklubi raames kutsume kolmapäeval\, 24.aprillil kell 16.00 külastama Transpordiameti liiklusjuhimiskeskust\, mis asub aadressil Valge tn.3\, Tallinn. \nParkida on võimalik Transpoprdiameti hoovis.\nMeid võõrustab Liiklusjuhtimiskeskuse juhataja Siim Vaikmaa. Koguneme 15:50\, siis saame korraga sisse minna. Osalemiseks on vajalik eelnev registreerimine\, kohtade arv on piiratud. \n\n  \nKohtumiseni!
URL:https://prolog.ee/sundmused/prolog-kutsub-logistikaklubi-24-aprillil-2/
ATTACH;FMTTYPE=image/png:https://prolog.ee/wp-content/uploads/2021/10/23172466_858015964379606_1595390190570791391_n.png
END:VEVENT
END:VCALENDAR