BEGIN:VCALENDAR
VERSION:2.0
PRODID:-//PROLOG - ECPv6.5.0.1//NONSGML v1.0//EN
CALSCALE:GREGORIAN
METHOD:PUBLISH
X-ORIGINAL-URL:https://prolog.ee
X-WR-CALDESC:Events for PROLOG
REFRESH-INTERVAL;VALUE=DURATION:PT1H
X-Robots-Tag:noindex
X-PUBLISHED-TTL:PT1H
BEGIN:VTIMEZONE
TZID:Europe/Tallinn
BEGIN:DAYLIGHT
TZOFFSETFROM:+0200
TZOFFSETTO:+0300
TZNAME:EEST
DTSTART:20240331T010000
END:DAYLIGHT
BEGIN:STANDARD
TZOFFSETFROM:+0300
TZOFFSETTO:+0200
TZNAME:EET
DTSTART:20241027T010000
END:STANDARD
END:VTIMEZONE
BEGIN:VEVENT
DTSTART;TZID=Europe/Tallinn:20240308T080000
DTEND;TZID=Europe/Tallinn:20240308T170000
DTSTAMP:20260423T035403
CREATED:20240402T120322Z
LAST-MODIFIED:20240402T120322Z
UID:19272-1709884800-1709917200@prolog.ee
SUMMARY:Prolog televisioonis
DESCRIPTION:08. märtsil andis Tõnis Hintsov intervjuu Terevisioonile\, mida saate vaadata siit alates saate 29. minutist.  \n20.03 andis Lauri Lusti intervjuu ETV+ hommikusaatele Кофе+ \, mida on võimalik järele vaadata siit alates 27. minutist 
URL:https://prolog.ee/sundmused/prolog-televisioonis/
ATTACH;FMTTYPE=image/jpeg:https://prolog.ee/wp-content/uploads/2023/02/john-moeses-bauan-WG1HNF8PGHo-unsplash-scaled.jpg
END:VEVENT
BEGIN:VEVENT
DTSTART;TZID=Europe/Tallinn:20240313T080000
DTEND;TZID=Europe/Tallinn:20240314T170000
DTSTAMP:20260423T035403
CREATED:20240402T113932Z
LAST-MODIFIED:20240402T114348Z
UID:19266-1710316800-1710435600@prolog.ee
SUMMARY:13-14.03.2024 Pactec Helsingis
DESCRIPTION:Tõnis Hintsov osales Pactec messi raames Limowa (www.limowa.fi) poolt korraldatud seminaril ning võttis osa paneeldiskussioonist\, kus arutleti siselogistikatehnoloogiate ja koostööv toimimise teemadel. \nSamas sõlmiti Prologi ja Limowa vahel ühiste huvide protokoll\, mille eesmärgiks on aidata väikeettevõtteid maailmaturule sisenemisel.
URL:https://prolog.ee/sundmused/13-14-03-2024-pactec-helsingis/
ATTACH;FMTTYPE=image/jpeg:https://prolog.ee/wp-content/uploads/2024/04/c037f294-1ac3-4ca2-a4a1-f2a050929b80.jpg
END:VEVENT
BEGIN:VEVENT
DTSTART;TZID=Europe/Tallinn:20240315T080000
DTEND;TZID=Europe/Tallinn:20240315T170000
DTSTAMP:20260423T035403
CREATED:20240402T121825Z
LAST-MODIFIED:20240402T121825Z
UID:19281-1710489600-1710522000@prolog.ee
SUMMARY:Digipööre kujundab logistika valdkonna uue näo
DESCRIPTION:Logistika valdkonna arengut veavad automatiseerimine ja digitaliseerimine. Kasvava tähtsusega on ka ressursside säästliku kasutamise oskus ning uute juhtimistrendide tundmine\, selgub värskest OSKA uuringust. \nAllikas:https://oska.kutsekoda.ee/ \n 
URL:https://prolog.ee/sundmused/digipoore-kujundab-logistika-valdkonna-uue-nao/
ATTACH;FMTTYPE=image/png:https://prolog.ee/wp-content/uploads/2024/04/Allalaaditud-fail-1.png
END:VEVENT
END:VCALENDAR