BEGIN:VCALENDAR
VERSION:2.0
PRODID:-//PROLOG - ECPv6.5.0.1//NONSGML v1.0//EN
CALSCALE:GREGORIAN
METHOD:PUBLISH
X-ORIGINAL-URL:https://prolog.ee
X-WR-CALDESC:Events for PROLOG
REFRESH-INTERVAL;VALUE=DURATION:PT1H
X-Robots-Tag:noindex
X-PUBLISHED-TTL:PT1H
BEGIN:VTIMEZONE
TZID:Europe/Tallinn
BEGIN:DAYLIGHT
TZOFFSETFROM:+0200
TZOFFSETTO:+0300
TZNAME:EEST
DTSTART:20230326T010000
END:DAYLIGHT
BEGIN:STANDARD
TZOFFSETFROM:+0300
TZOFFSETTO:+0200
TZNAME:EET
DTSTART:20231029T010000
END:STANDARD
END:VTIMEZONE
BEGIN:VEVENT
DTSTART;TZID=Europe/Tallinn:20231213T153000
DTEND;TZID=Europe/Tallinn:20231213T200000
DTSTAMP:20260425T151356
CREATED:20231102T143657Z
LAST-MODIFIED:20231207T094706Z
UID:19124-1702481400-1702497600@prolog.ee
SUMMARY:Prolog jõulukoosviibimine 13. detsembril Nordic Hotel Forum kaminasaalis
DESCRIPTION:Hea Prologi liige\, \nKutsume sind 13. detsembril Nordic Hotel Forum kaminasaali\, et veeta koos üks õhtupoolik\, nautida head sööki ja veini ning teha kokkuvõtteid lõppevast aastast. \nMeie traditsiooniline jõuluglögi algab kogunemisega alates kell 17:00. \nSellele eelneb kell 16:00 algav paberivaba transpordi digitaliseerimise paneeldiskussioon. \n\n  \nJuhul kui otsustad tulla meie jõuluüritusele autoga\, siis parkida on võimalik Nordic Hotel Forum taga asuvas tasulises parklas (sissepääs parklasse Mere puiesteelt). \n  \n 
URL:https://prolog.ee/sundmused/13dets/
LOCATION:Nordic Hotel Forum\, Viru väljak 3\, Tallinn
ATTACH;FMTTYPE=image/png:https://prolog.ee/wp-content/uploads/2023/11/Christmas-2-e1701938645133.png
END:VEVENT
END:VCALENDAR