BEGIN:VCALENDAR
VERSION:2.0
PRODID:-//PROLOG - ECPv6.5.0.1//NONSGML v1.0//EN
CALSCALE:GREGORIAN
METHOD:PUBLISH
X-WR-CALNAME:PROLOG
X-ORIGINAL-URL:https://prolog.ee
X-WR-CALDESC:Events for PROLOG
REFRESH-INTERVAL;VALUE=DURATION:PT1H
X-Robots-Tag:noindex
X-PUBLISHED-TTL:PT1H
BEGIN:VTIMEZONE
TZID:Europe/Tallinn
BEGIN:DAYLIGHT
TZOFFSETFROM:+0200
TZOFFSETTO:+0300
TZNAME:EEST
DTSTART:20230326T010000
END:DAYLIGHT
BEGIN:STANDARD
TZOFFSETFROM:+0300
TZOFFSETTO:+0200
TZNAME:EET
DTSTART:20231029T010000
END:STANDARD
END:VTIMEZONE
BEGIN:VEVENT
DTSTART;TZID=Europe/Tallinn:20230323T080000
DTEND;TZID=Europe/Tallinn:20230324T170000
DTSTAMP:20260426T072639
CREATED:20220629T185853Z
LAST-MODIFIED:20220629T185853Z
UID:18190-1679558400-1679677200@prolog.ee
SUMMARY:23-24.03.2023 Tarneahela akadeemia VI moodul: transpordilogistika ja väliskaubandus. Koolitajad Tiit Tammemägi ja Tõnis Hintsov
DESCRIPTION:Incoterms\, rahvusvahelised konventsioonid ja lepingud\, kaasnevad riskid ja riskide maandamise viisid\, logistikateenused\, veo- ja ekspedeerimislepingud\, vedaja vastutus-\, ekspedeerija vastus- ja veosekindlustus.
URL:https://prolog.ee/sundmused/23-24-03-2023-tarneahela-akadeemia-vi-moodul-transpordilogistika-ja-valiskaubandus-koolitajad-tiit-tammemagi-ja-tonis-hintsov/
END:VEVENT
BEGIN:VEVENT
DTSTART;TZID=Europe/Tallinn:20230323T090000
DTEND;TZID=Europe/Tallinn:20230324T170000
DTSTAMP:20260426T072639
CREATED:20230320T094449Z
LAST-MODIFIED:20230406T124640Z
UID:18891-1679562000-1679677200@prolog.ee
SUMMARY:23.-24.03.2023 Tarneahela akadeemia VI moodul: transpordilogistika ja väliskaubandus. Koolitajad Tiit Tammemägi ja Tõnis Hintsov. Töökohapõhise õppe registreerimine.
DESCRIPTION:Incoterms\, rahvusvahelised konventsioonid ja lepingud\, kaasnevad riskid ja riskide maandamise viisid\, logistikateenused\, veo- ja ekspedeerimislepingud\, vedaja vastutus-\, ekspedeerija vastus- ja veosekindlustus.
URL:https://prolog.ee/sundmused/23-24-04-2023-tarneahela-akadeemia-vi-moodul-transpordilogistika-ja-valiskaubandus-koolitajad-tiit-tammemagi-ja-tonis-hintsov-tookohapohise-oppe-registreerimine/
END:VEVENT
BEGIN:VEVENT
DTSTART;TZID=Europe/Tallinn:20230330T090000
DTEND;TZID=Europe/Tallinn:20230330T170000
DTSTAMP:20260426T072639
CREATED:20230123T104546Z
LAST-MODIFIED:20230220T094152Z
UID:18435-1680166800-1680195600@prolog.ee
SUMMARY:30.03.2023 Tarneahelakonverents
DESCRIPTION:Muutustele ja nendest tekkinud kriisidele lahenduste otsimisest on saanud igapäevase töö lahutamatu osa. Parafraseerides elavaid klassikuid: “Tahaks korralikult tarneahelaid juhtida\, aga ei saa. Pidevalt peab lahendama kriise”. See ongi uus reaalsus ja meil jääb üle kohaneda või hääbuda. Seetõttu vaatabki PROLOGi Tarneahelakonverents taaskord sügavuti sisse muutuvasse maailma ja keskkonda. \nHoiame oma rahvusvahelist joont. Toome teile esinejaid üle maailma\, et anda toimuvast globaalne vaade\, sest me ei ole neis muutustes üksi ja kogu maailm otsib vastuseid samadele küsimustele. Konverentsi selgroog on kohalikud parimad esinejad\, kellel on näited lahendustest siinsamas Eestis. Pakume esinejaid\, kelle juhtimiskogemused aitavad näha võimalusi muutuvas ärikeskkonnas ja leida lahendusi kerkinud probleemide ületamiseks. Läbi rahvusvaheliste ja Eesti esinejate kogemuste toome selgust\, kuidas maailmas toimuvad protsessid mõjutavad meie ettevõtete ja riigi tegevust. On vaja teada\, kuidas me logistika- ja tarneahelajuhtidena peame selles segaduses orienteeruma\, et teha õigeid otsuseid. \nPROLOGi kuues rahvusvaheline Tarneahelakonverents on väärtuslik kohtumispaik kõigile tööstuse-\, kaubanduse-\, ekspedeerimise-\, transpordi- ja logistikasektori inimestele. See on suurepärane koht\, kus luua uusi kontakte tarneahela- ja ostuvaldkonnas. Lisaks päevastele ettekannetele maailma ja Eesti parimatelt ekspertidelt on konverentsi lahutamatu osa õhtune võrgustamine – suhtlus vabas õhkkonnas veini ja suupistetega. Nii ka seekord! \nBroneerige kalendris 30. märts. Kes soovivad aga konverentsil osalemiseks kasutada soodsamat võimaliku registreerumise hinda\, siis soovitan end kirja panna just praegu! \nhttps://prolog.ee/tarneahelakonverents-2023/
URL:https://prolog.ee/sundmused/30-03-2023-tarneahelakonverents/
LOCATION:Filmimuuseum\, Pirita tee 56\, 12011 Tallinn
ATTACH;FMTTYPE=image/png:https://prolog.ee/wp-content/uploads/2023/02/Nimetu-kujundus-9.png
END:VEVENT
END:VCALENDAR