BEGIN:VCALENDAR
VERSION:2.0
PRODID:-//PROLOG - ECPv6.5.0.1//NONSGML v1.0//EN
CALSCALE:GREGORIAN
METHOD:PUBLISH
X-WR-CALNAME:PROLOG
X-ORIGINAL-URL:https://prolog.ee
X-WR-CALDESC:Events for PROLOG
REFRESH-INTERVAL;VALUE=DURATION:PT1H
X-Robots-Tag:noindex
X-PUBLISHED-TTL:PT1H
BEGIN:VTIMEZONE
TZID:Europe/Tallinn
BEGIN:DAYLIGHT
TZOFFSETFROM:+0200
TZOFFSETTO:+0300
TZNAME:EEST
DTSTART:20150329T010000
END:DAYLIGHT
BEGIN:STANDARD
TZOFFSETFROM:+0300
TZOFFSETTO:+0200
TZNAME:EET
DTSTART:20151025T010000
END:STANDARD
BEGIN:DAYLIGHT
TZOFFSETFROM:+0200
TZOFFSETTO:+0300
TZNAME:EEST
DTSTART:20160327T010000
END:DAYLIGHT
BEGIN:STANDARD
TZOFFSETFROM:+0300
TZOFFSETTO:+0200
TZNAME:EET
DTSTART:20161030T010000
END:STANDARD
BEGIN:DAYLIGHT
TZOFFSETFROM:+0200
TZOFFSETTO:+0300
TZNAME:EEST
DTSTART:20170326T010000
END:DAYLIGHT
BEGIN:STANDARD
TZOFFSETFROM:+0300
TZOFFSETTO:+0200
TZNAME:EET
DTSTART:20171029T010000
END:STANDARD
END:VTIMEZONE
BEGIN:VEVENT
DTSTART;TZID=Europe/Tallinn:20170531T133000
DTEND;TZID=Europe/Tallinn:20170601T130000
DTSTAMP:20260421T045337
CREATED:20170518T101111Z
LAST-MODIFIED:20170620T121327Z
UID:14559-1496237400-1496322000@prolog.ee
SUMMARY:Single Window kevadseminar 2017
DESCRIPTION:Mai viimasel ja juuni esimesel päeval toimub logistika osapoolte ja erinevate riigiasutuste vahelist harmoniseeritud andmevahetust edendava projekti Single Window 2017. aasta kevadseminar. \nSeminaril teeme kokkuvõtte vahepeal toimunust ning vaatame tulevikku. Esimeses seminari osas keskendume töösolevatele lahendustele ja pakume aruteluvõimalust. Teises osas vaatame lähemalt tarneahelate digitaliseerimist Eesti eesistumise kontekstis ning uue X-tee arenguid. \nTeisel päeval toimuvas töötoas kavandatame ja lepime kokku erinevate lahenduste omavahelise ühendamise testlahendustes ja prototüüpides\, mis annavad pikemas vaates panuse Single Window rakendumisesse. \nKutsed osalemiseks saatsime personaalselt. \nSeminari ja töötoa kava ja lisainfo: www.singlewindow.ee \nRegistreerimine http://bit.ly/SWkevad2017: \nLaadimine… \n  \nKüsimused ja ettepanekud:\nTõnis Hintsov\, tonis.hintsov@prolog.ee\, tel. 5100582\nUlrika Hurt\, ulrika.hurt@ttu.ee\, tel. 5214251
URL:https://prolog.ee/sundmused/single-window-kevadseminar-2017/
LOCATION:Nordic Hotel Forum\, Viru väljak 3\, Tallinn
CATEGORIES:Eesootavad üritused,Möödunud üritused,Üritus
ATTACH;FMTTYPE=image/jpeg:https://prolog.ee/wp-content/uploads/2015/11/Picture40.jpg
ORGANIZER;CN="Ulrika Hurt":MAILTO:ulrika.hurt@gmail.com
END:VEVENT
BEGIN:VEVENT
DTSTART;TZID=Europe/Tallinn:20170531T120000
DTEND;TZID=Europe/Tallinn:20170531T140000
DTSTAMP:20260421T045337
CREATED:20170517T153656Z
LAST-MODIFIED:20170620T121031Z
UID:14542-1496232000-1496239200@prolog.ee
SUMMARY:PROLOG üldkoosolek
DESCRIPTION:Hea PROLOG-i liige\nPROLOG-i juhatus kutsub Sind 2016. majandusaastat kokku võtvale ning ühingu tänaseid ja homseid tegevusi üle vaatavale üldkoosolekule\, mis toimub 31. mail algusega kell 12:00 Nordic Hotel Forum konverentsikeskuses. \nPäevakord:\n\nÜldkoosoleku juhataja ja protokollija valimine ning koosoleku päevakorra kinnitamine\nJuhatuse 2016. aasta tegevusaruande ja ühingu majandusaasta aruande kinnitamine\n2017. aasta tegevuskava ja eelarve kinnitamine\nPõhikirja muutmise ettepaneku kinnitamine.\nEttepanek lihtsustada ühingu liikmestaatuseid alljärgnevalt:\n– Noorliige\n– Füüsilisest isikust liige\n– Juriidlisest isikust liige\n– Auliige\nKohapeal või enne koosolekut juhatusele täiendavalt saadetud küsimuste arutelu\n\nÜldkoosolekule järgneb algusega kl 14:00 Single Window kevadseminar\, vaata täpsemalt siit. \n  \nPalun anna oma tulekust või mittetulekust teada hiljemalt 24. maiks alloleva vormi abil:
URL:https://prolog.ee/sundmused/prolog-uldkoosolek-2016/
LOCATION:Nordic Hotel Forum\, Viru väljak 3\, Tallinn
CATEGORIES:Eesootavad üritused,Möödunud üritused,Üritus
ATTACH;FMTTYPE=image/jpeg:https://prolog.ee/wp-content/uploads/2015/11/Picture45.jpg
ORGANIZER;CN="T%C3%B5nis Hintsov":MAILTO:tonis.hintsov@prolog.ee
END:VEVENT
BEGIN:VEVENT
DTSTART;VALUE=DATE:20170509
DTEND;VALUE=DATE:20170512
DTSTAMP:20260421T045337
CREATED:20170419T091742Z
LAST-MODIFIED:20170620T121202Z
UID:14450-1494288000-1494547199@prolog.ee
SUMMARY:Õppereis Saksamaale
DESCRIPTION:Mai teisel nädalal toimub Münchenis Euroopa suurim logistika ja transpordi mess\, millest otse loomulikult võtab osa ka PROLOGi delegatsioon. \nSaksamaa õppereisi käigus külastame Müncheni logistikamessi ning võimalusel veel mõnda põnevat valdkonnaga seonduvat kohta. Lisaks on võimalus tutvuda ajaloolise Müncheniga ning külastada BMW muuseumi. \nMüncheni logistikamess on maailma juhtiv logistkavaldkonna kohtumispaik\, mis toimub iga kahe aasta tagant. Messil on esindatud logistikavaldonna ettevõtted ning uued tehnoloogilised lahendused\, toimuvad mitmed töötoad ja tooteesitlused. Mess toimub Munich Trade Fair Centre’s\, täpsem info väljapanekute\, konverentsi programmi jm kohta www.transportlogistic.de. \n  \nLennuinfo: \n\nVäljalend Tallinnast: teisipäeval\, 9. mail 2017 kell 7.00 (LO 8165)\nTagasilend Münchenist: neljapäeval\, 11. mai. 2017 kell 20.30 (LO 8168). Tagasi Tallinnas oleme 11. mail kell 23:50.\n\n  \nRegistreerimine õppevisiidile on lõppenud – kohad on täis.
URL:https://prolog.ee/sundmused/oppereis-saksamaale/
LOCATION:München\, München\, Saksamaa
CATEGORIES:Eesootavad üritused,Möödunud üritused,Üritus
ATTACH;FMTTYPE=image/jpeg:https://prolog.ee/wp-content/uploads/2017/04/messe-münchen2.jpg
ORGANIZER;CN="Kalle Uusmaa":MAILTO:kalle.uusmaa@prolog.ee
END:VEVENT
BEGIN:VEVENT
DTSTART;TZID=Europe/Tallinn:20170504T150000
DTEND;TZID=Europe/Tallinn:20170504T170000
DTSTAMP:20260421T045337
CREATED:20170418T195900Z
LAST-MODIFIED:20170620T121244Z
UID:14428-1493910000-1493917200@prolog.ee
SUMMARY:Ettevõtte Karl Storz Video Endoscopy Estonia külastus
DESCRIPTION:PROLOGi liikmeid kutsub külla Karl Storz Video Endoscopy Estonia. Külastus toimub 4. mail kell 15:00\, vajalik on registreerimine. \nSaksamaal asuva peakorteriga Karl Storz-Endoscope on Euroopa suurima kõrgtehnoloogilise kirurgiainstrumentaariumi – endoskoopide – tootja. 70 aastat edukat äritegevust on võimaldanud laieneda ühe mehe pereettevõttel üle maailma\, omades allüksusi 41 riigis ja pakkudes teenistust ligi 6000-le töötajale. Karl Storz’i firmamärk on esindatud kõikides maailmajagudes ning on kujunenud omal alal kvaliteedi ja usaldusväärsuse sümboliks. Maailmanimega kontsern rakendab tehnoloogia uusimaid saavutusi seeriatootmises ka oma Eesti tütarettevõttes. \n1994. aastast tegutsenud Karl Storz Video Endoscopy Estonia OÜ on Storz’i grupi kiiremini arenevaid arendus-ja tootmisüksusi\, mis tegeleb meditsiiniliste endoskoopide monteerimisega ja häälestamisega. Kõrge töökultuuriga kollektiiv ja pikaaegne kogemus painduvate endoskoopide tootmises on põhjuseks\, miks maailmanimega kontsern rakendab tehnoloogia uusimaid saavutusi seeriatootmises just Eesti tütarettevõttes. \n2015. aasta augustis alustati Laagris\, raudtee ja Pärnu maantee äärses äritsoonis uue 8760 ruutmeetrise netopindalaga tootmis-\, teenindus- ja büroohoone ehitust. Sisse koliti 2016. aasta kevadel. \nKülastuse käigus tutvustatab ettevõtte kvaliteedijuht Elen Pirso meile ettevõtte tegevust ja viib läbi ringkäigu tootmises. Kasuta suurepärast võimalust uute kontaktide loomiseks. \nGrupi suurus on piiratud\, mistõttu saab ühest ettevõttest osaleda kuni kaks inimest. Külastusel osalemine on PROLOGi liikmetele tasuta (kontrolli liikmelisust siit)\, mitteliikmetele 10€ + km/osaleja. Tasumine toimub pärast külastust esitatava arve alusel. \nRegistreerimine on lõppenud – grupp on täis. \n 
URL:https://prolog.ee/sundmused/ettevotte-karl-storz-video-endoscopy-estonia-kulastus/
LOCATION:Karl Storz Video Endoscpy Estonia\, Pärnu mnt\, 556b\, Laagri\, 76401\, Eesti
CATEGORIES:Eesootavad üritused,Möödunud üritused,Üritus
ATTACH;FMTTYPE=image/jpeg:https://prolog.ee/wp-content/uploads/2017/04/karlstorz-1.jpg
ORGANIZER;CN="Kalle Uusmaa":MAILTO:kalle.uusmaa@prolog.ee
END:VEVENT
BEGIN:VEVENT
DTSTART;TZID=Europe/Tallinn:20170331T130000
DTEND;TZID=Europe/Tallinn:20170331T223000
DTSTAMP:20260421T045337
CREATED:20170324T113531Z
LAST-MODIFIED:20170620T121353Z
UID:14345-1490965200-1490999400@prolog.ee
SUMMARY:Eesti Rahva Muuseumi külastus
DESCRIPTION:Hea Prologi liige! \nKutsume Sind osalema PROLOG-i poolt korraldatavale visiidile Tartusse\, Aasta Logistikategu 2016 suure auhinna võitnud Eesti Rahva Muuseumi tagaruumidesse. \nVisiit toimub 31. märtsi pealelõunal\, vajalik eelregistreerimine. \nEesti Rahva Muuseum ehitas tänavu üles 1.2 miljoni museaali säilitamiseks ja haldamiseks vajaliku uue hoidlasüsteemi: kokku 8000 m² hoidlapinda digitaalse riiulijuhtimise ja arvepidamisega\, mis tähendab kvalitatiivset muutust nii riigi vara säilitamisel kui ka uurijate/huviliste teenindamisel. Lisaks museaalidele kolis muuseum ajavahemikul eelmise aasta märtsist septembrini kogu muu toimimiseks vajaliku vana ja uue vara uude peahoonesse – kokku hinnanguliselt kuni 400 merekonteinerit. Operatsioon viidi läbi ette nähtud eelarve piires ja ajagraafikus nii\, et täideti 2013. aastal hoone nurgakivi pannes antud lubadus avada muuseum külastajatele 1. oktoobril 2016. Hea plaani kõrval oli õnnestumise tähtsaim tegur muuseumi koguhoidjate entusiasm ja ihuramm (logistikauudised.ee\, 17.11.16). \nPROLOG-i liikmetel avaneb harukordne võimalus seda suurepärast logistikalahendust oma silmaga näha ja küsida lisaküsimusi otse allikast\, Eesti Rahva Muuseumi asedirektor Viljar Pohhomov-lt. \nKülastus toimub reedel\, 31. märtsil. Tallinnast läheme koos Elroni rongiga.  \nAjaplaan*:\n13:00 kogunemine Balti Jaamas\n13:15-15:13 rong Tallinn –> Tartu\n15:30-17:30 ERMi hoidlate ja logistiksüsteemide ning püsiekspositsiooniga tutvumine\n18:00-19:45 õhtune kehakinnitus Tartus\n19:58-22:21 rong Tartu -> Tallinn \nVajalik eelregistreerimine hiljemalt reedeks\, 24. märtsiks siin:https://goo.gl/forms/7ycdY6zxkHYnj3d13 \nOsalemise tingimused:\n– Osalemise tasu PROLOGi liikmetele: tasuta\, v.a. rongipiletid 22.50€ + km (Tallinn-Tartu-Tallinn). Kui tulete oma transpordiga\, siis tasuta.\n– Osalemise tasu mitteliikmetele: 12.50€ + km\, kui tulete oma transpordiga või 35€ + km\, kui tulete ühise rongiga.\n– Kuna kohtade arv on piiratud\, mahutame ühest ettevõttest kuni kolm inimest.\n– Rongiga tulles koguneme kell 13:00 Tallinnas\, Balti Jaamas. Iseseisvalt tulles kohtume kell 15:25 ERM-i juures\, aadressil Muuseumi tee 2\, Tartu. \nVisiit sisaldab ERM-i hoidlate ja logistikasüsteemide külastamise ning õhtuse kehakinnituse. Soovi korral ERM-i ekspositsioonide külastamiseks tuleb kohapeal osta lisapilet. \n*: Soovi korral on võimalik Tartust Tallinna sõita varasema rongiga: 18:09-20:14. Sel juhul ei saa õhtusele ühisele kehakinnitusele jääda. Palun märgi vastav soov registreerimisvormil.
URL:https://prolog.ee/sundmused/eesti-rahva-muuseumi-kulastus/
LOCATION:Eesti Rahva Muuseum\, Muuseumi tee 2\, Tartu\, Eesti
CATEGORIES:Eesootavad üritused,Möödunud üritused,Üritus
ATTACH;FMTTYPE=image/jpeg:https://prolog.ee/wp-content/uploads/2017/03/17342586_1646039938745014_4219850158980730065_n.jpg
END:VEVENT
BEGIN:VEVENT
DTSTART;TZID=Europe/Tallinn:20161005T144500
DTEND;TZID=Europe/Tallinn:20161005T170000
DTSTAMP:20260421T045337
CREATED:20160921T220224Z
LAST-MODIFIED:20160921T221247Z
UID:14256-1475678700-1475686800@prolog.ee
SUMMARY:Ettevõtte külastus 05.10 Saku Metall
DESCRIPTION: 
URL:https://prolog.ee/sundmused/ettevotte-kula10-saku-metall/
CATEGORIES:Eesootavad üritused,Üritus
END:VEVENT
BEGIN:VEVENT
DTSTART;VALUE=DATE:20160928
DTEND;VALUE=DATE:20161002
DTSTAMP:20260421T045337
CREATED:20160728T062155Z
LAST-MODIFIED:20160728T062155Z
UID:14158-1475020800-1475366399@prolog.ee
SUMMARY:Kutsume äriringreisile Balkanimaadesse
DESCRIPTION:Kutsume Sind osalema ProLogi poolt korraldatavale ärimissioonile Albaaniasse\, Montenegrosse ja Kosovosse. \nMissiooni käigus tutvutakse kolme riigi transpordi- ja kaubandusettevõtetega\, samuti toiduainete (oliivõli\, veinitööstus\, jm.) valdkonna tootmisettevõtetega ning nende ekspordipotensiaali ning -võimalustega.\nTegemist on kiiresti areneva piirkonnaga\, mis on läbi teinud märkimisväärse arengu ühest Euroopa\nvaeseimast ja vähemarenenumast piirkonnast Euroopa Liidu potensiaalseteks liikmekandidaatideks.\nSealhulgas Albaania on NATO täisliige aastast 2009 ning esimesed diplomaatilised suhted sõlmiti Eestiga juba 1. jaanuaril 1992.\nMontenegro\, Kosovo ja Albaania on Eestile sarnased väikeriigid\, näiteks Albaania on pindalalt Eestist ligi poole väiksem\, kuid rahvaarvult üle kahe korra suurem (2\,8 miljonit elanikku). Piirkond on rikas maavarade poolest (pruunsüsi\, nafta\, maagaas\, kromiit\, rauamaak jt) ning majandus tugineb põllumajandusele – peamised saadused on nisu\, mais\, tubakas\, viigimarjad ja oliivid. Vabaturu reformide järgselt on riigid avatud uutele välisrahastustele\, eriti oodatud on investeeringud põllumajandusse\, tootmisse\, transpordi ja energeetika valdkonda. Lisaks on Albaania valitususel soov kiirendada riigiettevõtete erastamisprotsesse\, mis tänase seisuga on riigis suures osas läbi viimata.\nAsetsedes Vahemere rannikul Horvaatiast lõunas\, on need riigis tulevikus üheks võimalikuks transiidikoridoriks läbi Suessi kanali Euroopasse liikuvatele kaubavoogudele. Senisele konteinerealuste transpordile läbi Gibraltari väina Euroopasse on tõsiseks alternatiiviks Vahemere sadamatest alguse saav raudee kaubavedu.\nProLog kutsub üheskoos tutvuma Balkanimaade turgudega ning kohtuma potentsiaalsete tootjate ja tarnijatega. Äridelegatsiooni juhib piirkonna ekspert Tom Annikve (Riigihangete Keskus\, Eurohelp)\, kelle põhitööks on riigihangete korraldamisene nii Eestis kui ka välismaal kui ka mitmete äriprojektide juhtimine piirkonnas\, enamasti Albaanias.\nJuhul kui teil on spetsiifiline huvi mõne valdkonna vastu\, andke teada ja püüame leida kohapealt\nvajalikud kontaktisikud.\nNB! Reisi jooksul on võimalik kohtuda ka eraviisiliselt kohalike ettevõtjatega.\nSiin on Sinu võimalus kasutada oma kogemusi ning korrata Eesti arengustsenaariumi Vahemere ääres! \nTäpsem ajakava ja osalemistasud leitavad juuresolevast lingis. \nRegistreerimine info@prolog.ee
URL:https://prolog.ee/sundmused/kutsume-ariringreisile-balkanimaadesse/
CATEGORIES:Eesootavad üritused,Üritus
ORGANIZER;CN="Prolog ja Eurohelp":MAILTO:info@prolog.ee
END:VEVENT
BEGIN:VEVENT
DTSTART;TZID=Europe/Tallinn:20160921T080000
DTEND;TZID=Europe/Tallinn:20160921T170000
DTSTAMP:20260421T045337
CREATED:20160921T221409Z
LAST-MODIFIED:20160921T221425Z
UID:14258-1474444800-1474477200@prolog.ee
SUMMARY:Äripäeva Ostujuhtimise seminar 18.10
DESCRIPTION:Soodustused Prolog-i liikmetele.
URL:https://prolog.ee/sundmused/aripaeva-ostujuhtimise-seminar-18-10/
CATEGORIES:Eesootavad üritused
END:VEVENT
BEGIN:VEVENT
DTSTART;TZID=Europe/Tallinn:20160309T083000
DTEND;TZID=Europe/Tallinn:20160309T170000
DTSTAMP:20260421T045337
CREATED:20160205T174337Z
LAST-MODIFIED:20160205T174337Z
UID:14091-1457512200-1457542800@prolog.ee
SUMMARY:Jack Quarles Läbirääkimiste meistriklass
DESCRIPTION:  \nJack Quarles-e Läbirääkimiste Meistriklass Pärnu Tarneahelakonverentsil registreeriti kiiresti täis. Osalejate suure huvi tõttu korraldab Prolog koostöös TTÜ-ga 09.03 ühe täispäevase meistriklassi. Koolitus on inglise keeles ilma tõlketa ja kohti on piiratud. Registreerimine: http://www.ttu.ee/?id=26999&koolitus=3672 
URL:https://prolog.ee/sundmused/jack-quarles-labiraakimiste-meistriklass/
LOCATION:TTÜ Mektory\, Tallinn\, Eesti
CATEGORIES:Eesootavad üritused
ORGANIZER;CN="TT%C3%9C Logistikainstituut":MAILTO:kalle.uusmaa@ttu.ee
END:VEVENT
BEGIN:VEVENT
DTSTART;TZID=Europe/Tallinn:20160218T144500
DTEND;TZID=Europe/Tallinn:20160218T170000
DTSTAMP:20260421T045337
CREATED:20160128T091408Z
LAST-MODIFIED:20160128T092154Z
UID:14084-1455806700-1455814800@prolog.ee
SUMMARY:Ettevõtte külastus - Tallink Duty Free
DESCRIPTION:Alanud aasta esimene ettevõtte külastus toimub 18. veebruaril\, seekord tutvustab meile oma logistikakeskuse toimimist ning sellega seotud tegevusi Tallink Duty Free. \nAS Tallink Duty Free kuulub kontserni Tallink Grupp ning tegeleb hangete ning kaubanduse korraldamisega AS Tallink Grupi poolt opereeritavatel laevadel. \nAjakava: \n14.45 kogunemine \n15.00 külastuse algus \n17.00 külastuse orienteeruv lõpp \nTallinki logistikakeskus asub aadressil Kaldase tee 3\, Maardu. Parkimine sõiduautode parklas\, mis asub pääslahoone juures. \nOma osavõtusoovist andke palun teada hiljemalt 15. veebruariks aadrssil info@prolog.ee
URL:https://prolog.ee/sundmused/ettevotte-kulastus-tallink-duty-free/
LOCATION:Nimetu toimumiskoht\, Kaldase tee 3\, Maardu\, Eesti
CATEGORIES:Eesootavad üritused
END:VEVENT
BEGIN:VEVENT
DTSTART;TZID=Europe/Tallinn:20151202T090000
DTEND;TZID=Europe/Tallinn:20151217T170000
DTSTAMP:20260421T045337
CREATED:20150531T193700Z
LAST-MODIFIED:20151116T112427Z
UID:442-1449046800-1450371600@prolog.ee
SUMMARY:Ostujuhtide täiendkoolitus
DESCRIPTION:Ostujuhtide täienduskoolitus \nTallinna Tehnikaülikool koostöös Eesti Ostu- ja Tarneahelate Juhtimise Ühinguga (ProLog) kutsub osalema “Ostujuhtide täienduskoolitusel”. \nKoolituse eesmärk on anda vajalikke teadmisi ostujuhi kutseeksami sooritamiseks. Kuna koolitus on kombinatsioon teooriast ja praktikast\, lisab see kindlasti väärtust nii juba tegutsevatele kui ka tulevastele ostujuhtidele. \nKoolituse käigus õpivad osalejad kasutama erinevaid meetodeid\, et määrata parimad võimalused oma eesmärkide saavutamiseks nii komponentide hindade\, varude kui ka tarnijate  haldamisel. Lõpptulemusena annab koolitus vajalikud teadmised ja oskused\, et olla pühendunud ja pro-aktiivne professionaal. \nKoolituse programm on koostatud Ostujuhi tase 6 kutsestandardi järgi. Koolituse läbimine annab õiguse osaleda Eesti Ostu- ja Tarneahelate Juhtimise Ühingu poolt korraldataval Ostujuht tase 6 kutseeksamil\, mis on planeeritud 2016. aasta kevadeks. \nKoolituse sihtrühmaks on erinevate tegevusalade ostuspetsialistid ja ostujuhid. \nKoolitajad Emöke Sogenbits\, Peep Tomingas\, Tiit Tammemägi\, Ott Alemaa ning Margus Tinits on väga rikkalike kogemustega professionaalid ja hinnatud koolitajad. \nKoolitus kestab neli päeva kahe päeva kaupa. Esimene blokk toimub 2-3.12.2015. Teine blokk toimub 16-17.12.2015 \nKoolituse maksumus: Tavahind ühele osalejale 825 eur + km.\nSoodushind 745 eur + km (kehtib\, kui samast ettevõttest osaleb vähemalt kaks inimest ning ProLog liikmetele)\nREGISTREERU KOOLITUSELE saates kiri info@prolog.ee
URL:https://prolog.ee/sundmused/ostujuhtide-koolitus/
CATEGORIES:Eesootavad üritused
ATTACH;FMTTYPE=image/jpeg:https://prolog.ee/wp-content/uploads/2015/02/globallogistics_27.jpg
END:VEVENT
BEGIN:VEVENT
DTSTART;TZID=Europe/Tallinn:20151126T090000
DTEND;TZID=Europe/Tallinn:20151126T113000
DTSTAMP:20260421T045337
CREATED:20150531T193415Z
LAST-MODIFIED:20170612T135220Z
UID:439-1448528400-1448537400@prolog.ee
SUMMARY:Single Windows hommikuseminarid
DESCRIPTION:  \nSingle Window uus algatus 2015 \nHOMMIKUSEMINARIDE KUTSE \nLugupeetud koostööpartner! \nKutsume Teid osalema Single Window uues algatuses ning neid tutvustavatel hommikuseminaridel. \nLeiame\, et Teie organisatsioonil on tarneahela\, logistika ja transpordi infovahetuse digitaliseerimise valdkonnas oluline roll\, hindame Teie kogemust ja teadmisi ning näeme Teid väärtusliku partnerina Single Window edasiarenduste planeerimisel. \nUute suundade ja omavaheliste koostöövõimaluste esmaseks tutvustamiseks korraldame juba novembris kolm hommikuseminari\, millele järgnevad temaatilised töögrupikohtumised uue aasta esimeses pooles. \nSingle Window seminarid toimuvad kolme neljapäeva hommikul\, kell 9:00-11:00\nTTÜ Mektory innovatsiooni- ja ettevõtluskeskuses (Raja 15\, Tallinn). \nN\, 12.november 2015\,  Sissejuhatus ja riiklikud algatused\, Single Window mere- ja maanteevedudes\nN\, 26.november 2015  SingleWindow raudteel\, lennunduses ja tollimises\n8:40 Tervituskohv \n9:00 Sissejuhatus päeva PROLOG \n9:10 Single Window algatused raudteel Eesti Raudtee AS           Toomas Uiboupin\n9:30 Lennukauba infovahetuse automatiseerimine Ospentos OÜ Haiti Arendi\n10:00 Tollimaakleri infovahetuse digitaliseerimine Freselle OÜ Ojari Paas\n10:30 Tollinfosüsteemide arendused 2015-2020 Maksu- ja Tolliamet Inna Issajenko\n11:00 seminari kokkuvõtted\, lõpp \nN\, 10.detsember 2015\, SingleWindow intermodaalses logistikas ja kokkuvõtted \nHommikuseminaride täpsema kava ja algatuse tutvustuse leiate käesoleva kirja lisast. \nSeminaridel tutvustame erinevate valdkondade olemasolevaid SingleWindow  lahendusi ja planeeritavaid arendusi ning meie soov on nende valguses leida ühisosa valdkondadeüleste arenduste planeerimiseks. Esimesel seminaril tutvustatakse Single Window riiklikke kavasid ja käesoleva uue algatusega seotud uurimis- ja töökava ning kolmandal seminaril toimub pikem arutlelu erinevate organisatsioonide rolli ning võimalusi sellesse panustada. \nKui Teil isiklikult ei ole võimalik kohale tulla\, on oodatud Teie organisatsiooni esindaja. \nPalume tulekust teada vastates käesolevale meilile\, kirjutada info@prolog.ee . \nKohtumiseni! \nLISAINFO: \nPROLOG:\nTõnis Hintsov\, tonis@prolog.ee; 51 00 582\nPeep Tomingas\, peep.tomingas@prolog.ee\, 56 103 600 \nTTÜ:\nUlrika Hurt\, ulrika.hurt@ttu.ee\, 52 14 251;\nKalle Uusmaa\, kalle.uusmaa@ttu.ee\, 50 21 059 \nP.S. Ühtlasi anname teada\, et mõned päevad enne seminari saadame Teie organisatsioonile mõned küsimused seoses ootustega uue algatuse suhtes\, millele vastamiseks võite kasutada veebiankeeti või helistada meie kontaktisikule.
URL:https://prolog.ee/sundmused/hommikuseminarid/
LOCATION:TTÜ Mektory\, Tallinn\, Eesti
CATEGORIES:Möödunud üritused,Üritus
ATTACH;FMTTYPE=image/jpeg:https://prolog.ee/wp-content/uploads/2015/02/globallogistics_10.jpg
END:VEVENT
END:VCALENDAR