BEGIN:VCALENDAR
VERSION:2.0
PRODID:-//PROLOG - ECPv6.5.0.1//NONSGML v1.0//EN
CALSCALE:GREGORIAN
METHOD:PUBLISH
X-ORIGINAL-URL:https://prolog.ee
X-WR-CALDESC:Events for PROLOG
REFRESH-INTERVAL;VALUE=DURATION:PT1H
X-Robots-Tag:noindex
X-PUBLISHED-TTL:PT1H
BEGIN:VTIMEZONE
TZID:Europe/Tallinn
BEGIN:DAYLIGHT
TZOFFSETFROM:+0200
TZOFFSETTO:+0300
TZNAME:EEST
DTSTART:20250330T010000
END:DAYLIGHT
BEGIN:STANDARD
TZOFFSETFROM:+0300
TZOFFSETTO:+0200
TZNAME:EET
DTSTART:20251026T010000
END:STANDARD
BEGIN:DAYLIGHT
TZOFFSETFROM:+0200
TZOFFSETTO:+0300
TZNAME:EEST
DTSTART:20260329T010000
END:DAYLIGHT
BEGIN:STANDARD
TZOFFSETFROM:+0300
TZOFFSETTO:+0200
TZNAME:EET
DTSTART:20261025T010000
END:STANDARD
END:VTIMEZONE
BEGIN:VEVENT
DTSTART;TZID=Europe/Tallinn:20250205T000000
DTEND;TZID=Europe/Tallinn:20260531T235900
DTSTAMP:20260422T010827
CREATED:20250203T115008Z
LAST-MODIFIED:20250203T115248Z
UID:19545-1738713600-1780271940@prolog.ee
SUMMARY:Tarneahelajuhi arenguprogrammi mikrokraad
DESCRIPTION:Eesti Ettevõtluskõrgkooliga Mainor koostöös on võimalik Tarneahelajuhi arenguprogrammi läbinul taotleda akadeemilist mikrokraadi. Mikrokraad on üks osa Sinu eesmärgist hariduses järgmise sammu tegemisel. Mikrokraadi läbimise tingimuste kohta loe lähemalt allpool olevalt lingilt. Sama lingi kaudu saad ka ennast registreerida mikrokraadi kursusele. \nTarneahelajuhi arenguprogrammi mikrokraadi õppesse registreerimine toimub Eesti Ettevõtluskool Mainor kodulehel.
URL:https://prolog.ee/sundmused/tarneahelajuhi-arenguprogrammi-mikrokraad/
ATTACH;FMTTYPE=image/png:https://prolog.ee/wp-content/uploads/2025/01/Screenshot-2025-01-31-151903.png
END:VEVENT
BEGIN:VEVENT
DTSTART;TZID=Europe/Tallinn:20251101T080000
DTEND;TZID=Europe/Tallinn:20251215T170000
DTSTAMP:20260422T010827
CREATED:20251028T102739Z
LAST-MODIFIED:20251028T102739Z
UID:19703-1761984000-1765818000@prolog.ee
SUMMARY:Koolitus: tõstukid\, nende hooldus ja juhtimine 01.11.2025 - 15.12.2025
DESCRIPTION:Loe koolituse kohta lähemalt siit. \n 
URL:https://prolog.ee/sundmused/koolitus-tostukid-nende-hooldus-ja-juhtimine-01-11-2025-15-12-2025/
ATTACH;FMTTYPE=image/jpeg:https://prolog.ee/wp-content/uploads/2025/10/tostuk-scaled.jpg
END:VEVENT
BEGIN:VEVENT
DTSTART;TZID=Europe/Tallinn:20251113T144500
DTEND;TZID=Europe/Tallinn:20251113T170000
DTSTAMP:20260422T010827
CREATED:20251010T050514Z
LAST-MODIFIED:20251106T081429Z
UID:19693-1763045100-1763053200@prolog.ee
SUMMARY:PROLOG kutsub ettevõtte külastusele 13.novembril
DESCRIPTION:Seekord on vastuvõtjaks Smartposti\, mis on Baltikumi üks tuntumaid logistikaettevõtteid. Kaasaegse tehnoloogia abil võimaldab Smartposti ettevõtetel ja eraisikutel saata ja saada pakke lihtsalt ja mugavalt. \nKülastus algab kell 15.00\, koguneme 14.45  (Sinikivi tee 3\, Lehmja\, Rae vald\, 75326). \nOsalemiseks on vajalik registreerimine hiljemalt teisipäeva\, 11. novembri lõunaks.\nPalun täida registreerimisel kõik lahtrid. Smartposti vaatab osalejate nimekirja üle ning jätab endale õiguse teha nimekirjas muudatusi kooskõlas ettevõtte sisekorrareeglite ja ärisaladuse nõude hoidmisega. \n\n 
URL:https://prolog.ee/sundmused/ettevottekulastus13november/
LOCATION:Smartposti\, Sinikivi tee 3 Lehmja Rae vald 75326
ATTACH;FMTTYPE=image/png:https://prolog.ee/wp-content/uploads/2025/10/images.png
END:VEVENT
BEGIN:VEVENT
DTSTART;TZID=Europe/Tallinn:20251120T080000
DTEND;TZID=Europe/Tallinn:20251121T170000
DTSTAMP:20260422T010827
CREATED:20250609T071824Z
LAST-MODIFIED:20250609T072012Z
UID:19642-1763625600-1763744400@prolog.ee
SUMMARY:Tarneahela akadeemia. Moodul II (20. - 21. november 2025) Meeskonna juhtimine   Koolitaja: Maarit Vabrit-Raadla
DESCRIPTION:Inimressurss on piiratud ressurss. Koolitusel käsitleme teemasid\, mis aitavad mõista miks inimesed käituvad erinevates olukordades erinevalt\, mis inimesi motiveerib. Õpime koostama eduka inimese profiili ja selle alusel valima endale õigeid töötajaid. \nTeemad:\nJuht andis alluvale korralduse ülesanne täita. Alluv delegeeris selle omakorda edasi. Töö oli tehtud poolikult. Kes on süüdi ja kas keegi üldse on süüdi? Leadership versus Management. Arutame “lõngakera” lahti nii juhi kui ka alluva vaatenurgast. Räägime meeskonna juhtimisest ja meeskonna liikmeks olemisest. \nJuht ja juhtimine \n\n\nKas tulevikujuhile ja -organisatsioonile on Leadership vajalik? \n\n\nMillised on juhi kõige kriitilisemad kompetentsid ja kuidas neid arendada? \n\n\nKas inimeste juhtimist on võimalik planeerida? \n\n\nMeeskond ja juhtimine \n\n\nMis on koostöö ja mis on meeskonnatöö? \n\n\nKas rahulolu tapab motivatsiooni? \n\n\nKuidas jõuda pingete ja probleemide lahendusteni meeskonnas? \n\n\nInimeste juhtimise praktilised lähtekohad \n\n\nKommunikatsioon erinevatele töötajagruppidele \n\n\nKuidas saavutada töötaja arengus uut hüpet? \n\n\nKuidas kasutada töötajate arendamises kompetentse? \n\n\nTulemuste juhtimine läbi inimeste \n\n\nEesmärgistamine erinevatel tasanditel: ettevõte\, osakond\, juht\, töötaja \n\n\nTulemuskeskne coaching kui juhi peamine töövahend \n\n\nKoolituse läbinu teab:\nErinevate inimtüüpide juhtimise ja motiveerimise viisi\, õpib inimesi motiveerima ja looma jätkusuutlikke töösuhteid ettevõtte äriedu saavutamiseks.
URL:https://prolog.ee/sundmused/moodul-ii-20-21-november-2025-meeskonna-juhtimine-koolitaja-maarit-vabrit-raadla/
ATTACH;FMTTYPE=image/png:https://prolog.ee/wp-content/uploads/2022/03/260261677_123501423458587_6388976415137990224_n.png
END:VEVENT
BEGIN:VEVENT
DTSTART;TZID=Europe/Tallinn:20251204T133000
DTEND;TZID=Europe/Tallinn:20251204T200000
DTSTAMP:20260422T010827
CREATED:20251010T050638Z
LAST-MODIFIED:20251124T140948Z
UID:19696-1764855000-1764878400@prolog.ee
SUMMARY:PROLOG kutsub jõuluseminarile 4. detsembril
DESCRIPTION:Seminaril jätkame rahvusvahelise ekspordiseminariga (Opportunities in Japan & South Korea for cosmetic and food & beverage companies) ning räägime samuti kaubavedude digitaliseerimisest.\nEkspordiseminar toimub inglise keeles\, kaubavedude digitaliseerimisest räägime eesti keeles. Osalemine on tasuta. \nProgramm:\n13:30 – 14:00\nRegistreerimine ja kohvi \nI osa ekspordiseminar: Gateway to Global Markets Project (inglise keeles) \n14:00 – 14:10\nOpening & Introduction to the Gateway to Global Markets Project\nSpeaker: Heidi Järvi and Tõnis Hintsov\, Gateway to Global Markets\nAn overview of the Central Baltic funded Gateway to Global Markets\, how Estonian SMEs\ncan join\, and what the project offers (marketplaces\, translations\, localizations\, logistics\nsupport\, marketing tools). \n14:10 – 14:30\nCross-Border E-commerce in Practice: How the Marketplace Works\nSpeaker: Marko Kangaskolkka\, Flying Lynx\nA practical look at how the marketplace functions in Japan and South Korea\, earning logic and commission structure\, onboarding process\, warehousing\, delivery flows\, and real examples of how brands operate within the ecosystem. \n14:30 – 14:50\nInsights into the South Korean Market: Consumer Trends & Market Potential\nSpeaker: Minju Koo\, Steady Marketing\nWhat makes South Korea one of the world’s most dynamic markets for cosmetics and F&B? Overview of consumer behaviour\, category trends\, and local expectations. \n14:50 – 15:20\nExport in Real Life: Experience of an Estonian Brand\nSpeaker: Laura Visnapuu\, Nôgel Organics\nA firsthand export story from an Estonian company. Lessons learned\, challenges\, wins\, and practical advice for companies considering export. Nogel is also participating on Gateway to Global Markets. \nII osa: Kaubavedude digitaliseerimine (eesti keeles) \n15:30 – 15:50\neFTI arengud ja EIS kaubavedude digitaliseerimise toetuse ülevaade\nEnriko Laanemäe\, Kliimaministeerium \n15:50 – 16:30\nPaberivaba kaubaveo digitoodete kasutamine\nLauri Lusti\, PROLOG\nKaidi Lind \nSeminari teemadel räägime orienteeruvalt kuni kella poole viieni\, seejärel on aeg aastat kokkuvõtvateks vestlusteks\, võrgustumiseks ning jõuluglögiks ja suupisteteks. \nAnna meile märku\, et oled tulemas:
URL:https://prolog.ee/sundmused/prolog-jouluseminar/
LOCATION:Nordic Hotel Forum\, Viru väljak 3\, Tallinn
ATTACH;FMTTYPE=image/png:https://prolog.ee/wp-content/uploads/2022/12/14.-detsemril-17.00.png
END:VEVENT
BEGIN:VEVENT
DTSTART;TZID=Europe/Tallinn:20251211T080000
DTEND;TZID=Europe/Tallinn:20251212T170000
DTSTAMP:20260422T010827
CREATED:20250609T071908Z
LAST-MODIFIED:20250609T071957Z
UID:19645-1765440000-1765558800@prolog.ee
SUMMARY:Tarneahela akadeemia. Moodul III (11. - 12. detsember 2025) Finantside juhtimine tarneahelas   Koolitaja: Margus Tinits
DESCRIPTION:Tarneahelas on finantside ja rahavoo juhtimine kriitiline ettevõtte rahavoo seisukohast. Tarneahelas liikuvad summad on suured ja oskuslik finantside juhtimine tagab ettevõtte äriedu ja jätkusuutlikkuse. Anname osalejatele juhised oskuslikuks finantsjuhtimiseks. \nTeemad: \n\n\nFinantsarvestuse märksõnad: Finants- ja juhtimisarvestuse erinevused ja sarnasused\, bilanss: Varad = Kohustused + omakapital. Tulud – kulud = kasum\, kasumiaruanded. Toote- ja perioodikulud. Tellimuse ja protsessi kulud. Kulukontod raamatupidamises\, finantsarvestuse piiratus ja sobimatus paljude juhtimisotsuste vastuvõtmiseks (näit. nn Goldratt’i fenomen). \n\n\nJuhtimiseks vajalik kuluarvestus. Eelarve sisu ja olemus. Eesmärgid. \n\n\nEelarvete süsteem. Eelarvestamise perioodid. Tuleviku prognoosimise meetodid. Mineviku tendentside arvestamine. \n\n\nNullpõhised eelarved. „Bottom-Up“ ja „Top-Down“ põhimõtted. Tegevuspõhised eelarved. Paindlikud eelarved.  \n\n\n„Mis juhtub\, kui“ („what if“) analüüs. \n\n\nKoolituse läbinu:\nMõistab lugeda bilanssi\, kasumiaruannet ja rahavoogude aruannet. Oskab teha juhtimisotsuseid lähtuvalt kulude kokkuhoiust. Mõistab eelarve koostamise ja jälgimise vajalikkust.
URL:https://prolog.ee/sundmused/moodul-iii-11-12-detsember-2025-finantside-juhtimine-tarneahelas-koolitaja-margus-tinits/
ATTACH;FMTTYPE=image/png:https://prolog.ee/wp-content/uploads/2022/03/260261677_123501423458587_6388976415137990224_n.png
END:VEVENT
BEGIN:VEVENT
DTSTART;TZID=Europe/Tallinn:20251224T080000
DTEND;TZID=Europe/Tallinn:20251226T170000
DTSTAMP:20260422T010827
CREATED:20251224T103851Z
LAST-MODIFIED:20251224T103944Z
UID:20094-1766563200-1766768400@prolog.ee
SUMMARY:Kauneid jõulupühi!
DESCRIPTION:
URL:https://prolog.ee/sundmused/kauneid-joulupuhi/
ATTACH;FMTTYPE=image/png:https://prolog.ee/wp-content/uploads/2025/12/Head-Prologi-liikmed-ja-sobrad-Soovime-teile-rahulikke-joule-ning-kauneid-hetki-lahedastega.png
END:VEVENT
BEGIN:VEVENT
DTSTART;TZID=Europe/Tallinn:20260115T080000
DTEND;TZID=Europe/Tallinn:20260116T170000
DTSTAMP:20260422T010827
CREATED:20251202T113547Z
LAST-MODIFIED:20251202T113547Z
UID:19752-1768464000-1768582800@prolog.ee
SUMMARY:Tarneahela akadeemia\, IV moodul (15-16.jaanuar 2026). Hanke- ja ostuprotsesside juhtimine\, koolitaja Peep Tomingas
DESCRIPTION:Hankeprotsessi juhtimisel käsitleme tarnijate valikuid\, tarnelepingute sõlmimist\, tarnijate hindamist ja tarnijasuhete arendamist. Ostuprotsessi juhtimisel räägime standardiseerimisest\, tsentraliseerimisest ja automatiseerimisest. Hanke- ja ostutegevused on globaalsed.
URL:https://prolog.ee/sundmused/tarneahela-akadeemia-iv-moodul-15-16-jaanuar-2026-hanke-ja-ostuprotsesside-juhtimine-koolitaja-peep-tomingas/
LOCATION:Tallinn
ATTACH;FMTTYPE=image/png:https://prolog.ee/wp-content/uploads/2022/03/260261677_123501423458587_6388976415137990224_n.png
END:VEVENT
BEGIN:VEVENT
DTSTART;TZID=Europe/Tallinn:20260304T080000
DTEND;TZID=Europe/Tallinn:20260304T103000
DTSTAMP:20260422T010827
CREATED:20260220T125222Z
LAST-MODIFIED:20260220T125222Z
UID:20307-1772611200-1772620200@prolog.ee
SUMMARY:DHL Express Estonia külastus 04. märtsil
DESCRIPTION:Olete oodatud DHL Express Estonia külastusele 04. märtsil\, koguneme 08:15 kuni 08:30. \nAjakava \n08.30 tervitus ja hommikukohvi\n08:45 lennuki maandumise vaatamine katuseterrassil\n09:00 kaubaterminali ringkäik\n09:30 ülevaade DHL Express Estonia rollist\n10:00 – 10:30 networking & Q&A kohvilaua juures \nOsalemiseks on vajalik eelnev regisreerimine PROLOGi kodulehel hiljemalt 02. märtsi lõunaks. \n\nDHL Express Estonia asub aadressil Lennuradari tee 36\, Tallinn.
URL:https://prolog.ee/sundmused/dhl-express-estonia-kulastus-04-martsil/
LOCATION:DHL Express Estonia\, Lennuradari tee 36\, Tallinn.\, Lennuradari tee 36\, Tallinn
ATTACH;FMTTYPE=image/png:https://prolog.ee/wp-content/uploads/2026/02/dhl.png
END:VEVENT
BEGIN:VEVENT
DTSTART;TZID=Europe/Tallinn:20260325T080000
DTEND;TZID=Europe/Tallinn:20260325T170000
DTSTAMP:20260422T010827
CREATED:20260203T143019Z
LAST-MODIFIED:20260324T110710Z
UID:20131-1774425600-1774458000@prolog.ee
SUMMARY:Koolitus: Hanked BANI maailmas (Procurement in a BANI World)\, koolitaja João Correia Botelho
DESCRIPTION:Käsitletavad teemad: \n\nHankeprotsessi nägemine kogu ettevõtte väärtust loova tegurina\nTarnijatega koostöö uute lahenduste loomiseks\nHankeprotsessi loo jutustamine viisil\, mis saab juhtkonna toetuse\nRiski kasutamine uute võimaluste leidmiseks ja ettevõtte tugevdamiseks\nTeiste tööstusharude ideedest ja tavadest õppimine\nMiks on eetika ja läbipaistvus hankeprotsessis olulised\nHankemeeskondade ettevalmistamine tuleviku väljakutseteks\n\nSihtrühm\, kellele on koolitus mõeldud: \n\nHankespetsialistid\nKategooriajuhid\nVanemostjad\nTarneahela spetsialistid\, kes on seotud hankeotsuste tegemisega\n\n \n  \n  \n  \n  \n  \n  \n  \n  \n  \nLähemalt saad koolituse kohta lugeda siin: https://vucatobani.training/ \nKoolitaja João Botelho on Portugali Hankeassotsiatsiooni president ja rahvusvaheline konsultant\, kes on spetsialiseerunud strateegilisele hankimisele\, jätkusuutlikule hankimisele\, hankeprotsesside ümberkujundamisele ja kulude optimeerimise algatustele.\nOma enam kui 20-aastase kogemusega on ta edukalt juhtinud suure mõjuga projekte kogu Euroopas\, Aasias ja Lähis-Idas\, nõustades ülemaailmseid ettevõtteid ja tippjuhte vastupidavate ja tulevikuks valmis hankeorganisatsioonide loomisel. João on sagedane peaesineja hankekonverentsidel üle Euroopa\, kus ta jagab praktilisi teadmisi ja parimaid tavasid\, mis aitavad spetsialistidel tulemusi saavutada. \nOsalemistasu\n• 1 osaleja hind 399 eurot\n• 2 ja enam osaleja hind  eurot 349 eurot / osaleja\n• PROLOG liikme osaleja soodushind  299 eurot\nHindadele lisandub käibemaks. \nAjakava: \n09.30 – 10.00 kogunemine\n10.00 – 12.15 koolitus\n12.15 – 13.00 lõuna\n13.00 – 17.00 koolitus \nKoolitus toimub Nordic Hotel Forumis (Viru väljak 3\, Tallinn) saalis Vega. \n\n  \nKui osaled Prologi rahvusvahelisel tarneahelakonverentsil ning soovid osaleda ka koolitusel\, siis kirjuta info@prolog.eeja küsi pakkumist.
URL:https://prolog.ee/sundmused/koolitus-hanked-bani-maailmas-procurement-in-a-bani-world-koolitaja-joao-correia-botelho/
ATTACH;FMTTYPE=image/png:https://prolog.ee/wp-content/uploads/2026/02/2024_10_31_1_Fundo-Branco-253.png
END:VEVENT
BEGIN:VEVENT
DTSTART;TZID=Europe/Tallinn:20260326T083000
DTEND;TZID=Europe/Tallinn:20260326T170000
DTSTAMP:20260422T010827
CREATED:20250609T071328Z
LAST-MODIFIED:20251219T092948Z
UID:19635-1774513800-1774544400@prolog.ee
SUMMARY:PROLOG rahvusvaheline tarneahelakonverents 26. märtsil 2026
DESCRIPTION:Muutustele ja nendest tekkinud kriisidele lahenduste otsimisest on saanud igapäevase töö lahutamatu osa. Parafraseerides elavaid klassikuid: “Tahaks korralikult tarneahelaid juhtida\, aga ei saa. Pidevalt peab lahendama kriise”. See ongi uus reaalsus ja meil jääb üle kohaneda või hääbuda. Seetõttu vaatabki PROLOGi Tarneahelakonverents taaskord sügavuti sisse muutuvasse maailma ja keskkonda. \nHoiame oma rahvusvahelist joont. Toome teile esinejaid üle maailma\, et anda toimuvast globaalne vaade\, sest me ei ole neis muutustes üksi ja kogu maailm otsib vastuseid samadele küsimustele. Konverentsi selgroog on kohalikud parimad esinejad\, kellel on näited lahendustest siinsamas Eestis. Pakume esinejaid\, kelle juhtimiskogemused aitavad näha võimalusi muutuvas ärikeskkonnas ja leida lahendusi kerkinud probleemide ületamiseks. Läbi rahvusvaheliste ja Eesti esinejate kogemuste toome selgust\, kuidas maailmas toimuvad protsessid mõjutavad meie ettevõtete ja riigi tegevust. On vaja teada\, kuidas me logistika- ja tarneahelajuhtidena peame selles segaduses orienteeruma\, et teha õigeid otsuseid. \nLoe edasi
URL:https://prolog.ee/sundmused/https-prolog-ee-tarneahelakonverents-2026/
ATTACH;FMTTYPE=image/png:https://prolog.ee/wp-content/uploads/2015/10/test.png
END:VEVENT
END:VCALENDAR