BEGIN:VCALENDAR
VERSION:2.0
PRODID:-//PROLOG - ECPv6.5.0.1//NONSGML v1.0//EN
CALSCALE:GREGORIAN
METHOD:PUBLISH
X-ORIGINAL-URL:https://prolog.ee
X-WR-CALDESC:Events for PROLOG
REFRESH-INTERVAL;VALUE=DURATION:PT1H
X-Robots-Tag:noindex
X-PUBLISHED-TTL:PT1H
BEGIN:VTIMEZONE
TZID:Europe/Tallinn
BEGIN:DAYLIGHT
TZOFFSETFROM:+0200
TZOFFSETTO:+0300
TZNAME:EEST
DTSTART:20150329T010000
END:DAYLIGHT
BEGIN:STANDARD
TZOFFSETFROM:+0300
TZOFFSETTO:+0200
TZNAME:EET
DTSTART:20151025T010000
END:STANDARD
BEGIN:DAYLIGHT
TZOFFSETFROM:+0200
TZOFFSETTO:+0300
TZNAME:EEST
DTSTART:20160327T010000
END:DAYLIGHT
BEGIN:STANDARD
TZOFFSETFROM:+0300
TZOFFSETTO:+0200
TZNAME:EET
DTSTART:20161030T010000
END:STANDARD
END:VTIMEZONE
BEGIN:VEVENT
DTSTART;VALUE=DATE:20160928
DTEND;VALUE=DATE:20161002
DTSTAMP:20260425T031705
CREATED:20160728T062155Z
LAST-MODIFIED:20160728T062155Z
UID:14158-1475020800-1475366399@prolog.ee
SUMMARY:Kutsume äriringreisile Balkanimaadesse
DESCRIPTION:Kutsume Sind osalema ProLogi poolt korraldatavale ärimissioonile Albaaniasse\, Montenegrosse ja Kosovosse. \nMissiooni käigus tutvutakse kolme riigi transpordi- ja kaubandusettevõtetega\, samuti toiduainete (oliivõli\, veinitööstus\, jm.) valdkonna tootmisettevõtetega ning nende ekspordipotensiaali ning -võimalustega.\nTegemist on kiiresti areneva piirkonnaga\, mis on läbi teinud märkimisväärse arengu ühest Euroopa\nvaeseimast ja vähemarenenumast piirkonnast Euroopa Liidu potensiaalseteks liikmekandidaatideks.\nSealhulgas Albaania on NATO täisliige aastast 2009 ning esimesed diplomaatilised suhted sõlmiti Eestiga juba 1. jaanuaril 1992.\nMontenegro\, Kosovo ja Albaania on Eestile sarnased väikeriigid\, näiteks Albaania on pindalalt Eestist ligi poole väiksem\, kuid rahvaarvult üle kahe korra suurem (2\,8 miljonit elanikku). Piirkond on rikas maavarade poolest (pruunsüsi\, nafta\, maagaas\, kromiit\, rauamaak jt) ning majandus tugineb põllumajandusele – peamised saadused on nisu\, mais\, tubakas\, viigimarjad ja oliivid. Vabaturu reformide järgselt on riigid avatud uutele välisrahastustele\, eriti oodatud on investeeringud põllumajandusse\, tootmisse\, transpordi ja energeetika valdkonda. Lisaks on Albaania valitususel soov kiirendada riigiettevõtete erastamisprotsesse\, mis tänase seisuga on riigis suures osas läbi viimata.\nAsetsedes Vahemere rannikul Horvaatiast lõunas\, on need riigis tulevikus üheks võimalikuks transiidikoridoriks läbi Suessi kanali Euroopasse liikuvatele kaubavoogudele. Senisele konteinerealuste transpordile läbi Gibraltari väina Euroopasse on tõsiseks alternatiiviks Vahemere sadamatest alguse saav raudee kaubavedu.\nProLog kutsub üheskoos tutvuma Balkanimaade turgudega ning kohtuma potentsiaalsete tootjate ja tarnijatega. Äridelegatsiooni juhib piirkonna ekspert Tom Annikve (Riigihangete Keskus\, Eurohelp)\, kelle põhitööks on riigihangete korraldamisene nii Eestis kui ka välismaal kui ka mitmete äriprojektide juhtimine piirkonnas\, enamasti Albaanias.\nJuhul kui teil on spetsiifiline huvi mõne valdkonna vastu\, andke teada ja püüame leida kohapealt\nvajalikud kontaktisikud.\nNB! Reisi jooksul on võimalik kohtuda ka eraviisiliselt kohalike ettevõtjatega.\nSiin on Sinu võimalus kasutada oma kogemusi ning korrata Eesti arengustsenaariumi Vahemere ääres! \nTäpsem ajakava ja osalemistasud leitavad juuresolevast lingis. \nRegistreerimine info@prolog.ee
URL:https://prolog.ee/sundmused/kutsume-ariringreisile-balkanimaadesse/
CATEGORIES:Eesootavad üritused,Üritus
ORGANIZER;CN="Prolog ja Eurohelp":MAILTO:info@prolog.ee
END:VEVENT
BEGIN:VEVENT
DTSTART;TZID=Europe/Tallinn:20151126T090000
DTEND;TZID=Europe/Tallinn:20151126T113000
DTSTAMP:20260425T031705
CREATED:20150531T193415Z
LAST-MODIFIED:20170612T135220Z
UID:439-1448528400-1448537400@prolog.ee
SUMMARY:Single Windows hommikuseminarid
DESCRIPTION:  \nSingle Window uus algatus 2015 \nHOMMIKUSEMINARIDE KUTSE \nLugupeetud koostööpartner! \nKutsume Teid osalema Single Window uues algatuses ning neid tutvustavatel hommikuseminaridel. \nLeiame\, et Teie organisatsioonil on tarneahela\, logistika ja transpordi infovahetuse digitaliseerimise valdkonnas oluline roll\, hindame Teie kogemust ja teadmisi ning näeme Teid väärtusliku partnerina Single Window edasiarenduste planeerimisel. \nUute suundade ja omavaheliste koostöövõimaluste esmaseks tutvustamiseks korraldame juba novembris kolm hommikuseminari\, millele järgnevad temaatilised töögrupikohtumised uue aasta esimeses pooles. \nSingle Window seminarid toimuvad kolme neljapäeva hommikul\, kell 9:00-11:00\nTTÜ Mektory innovatsiooni- ja ettevõtluskeskuses (Raja 15\, Tallinn). \nN\, 12.november 2015\,  Sissejuhatus ja riiklikud algatused\, Single Window mere- ja maanteevedudes\nN\, 26.november 2015  SingleWindow raudteel\, lennunduses ja tollimises\n8:40 Tervituskohv \n9:00 Sissejuhatus päeva PROLOG \n9:10 Single Window algatused raudteel Eesti Raudtee AS           Toomas Uiboupin\n9:30 Lennukauba infovahetuse automatiseerimine Ospentos OÜ Haiti Arendi\n10:00 Tollimaakleri infovahetuse digitaliseerimine Freselle OÜ Ojari Paas\n10:30 Tollinfosüsteemide arendused 2015-2020 Maksu- ja Tolliamet Inna Issajenko\n11:00 seminari kokkuvõtted\, lõpp \nN\, 10.detsember 2015\, SingleWindow intermodaalses logistikas ja kokkuvõtted \nHommikuseminaride täpsema kava ja algatuse tutvustuse leiate käesoleva kirja lisast. \nSeminaridel tutvustame erinevate valdkondade olemasolevaid SingleWindow  lahendusi ja planeeritavaid arendusi ning meie soov on nende valguses leida ühisosa valdkondadeüleste arenduste planeerimiseks. Esimesel seminaril tutvustatakse Single Window riiklikke kavasid ja käesoleva uue algatusega seotud uurimis- ja töökava ning kolmandal seminaril toimub pikem arutlelu erinevate organisatsioonide rolli ning võimalusi sellesse panustada. \nKui Teil isiklikult ei ole võimalik kohale tulla\, on oodatud Teie organisatsiooni esindaja. \nPalume tulekust teada vastates käesolevale meilile\, kirjutada info@prolog.ee . \nKohtumiseni! \nLISAINFO: \nPROLOG:\nTõnis Hintsov\, tonis@prolog.ee; 51 00 582\nPeep Tomingas\, peep.tomingas@prolog.ee\, 56 103 600 \nTTÜ:\nUlrika Hurt\, ulrika.hurt@ttu.ee\, 52 14 251;\nKalle Uusmaa\, kalle.uusmaa@ttu.ee\, 50 21 059 \nP.S. Ühtlasi anname teada\, et mõned päevad enne seminari saadame Teie organisatsioonile mõned küsimused seoses ootustega uue algatuse suhtes\, millele vastamiseks võite kasutada veebiankeeti või helistada meie kontaktisikule.
URL:https://prolog.ee/sundmused/hommikuseminarid/
LOCATION:TTÜ Mektory\, Tallinn\, Eesti
CATEGORIES:Möödunud üritused,Üritus
ATTACH;FMTTYPE=image/jpeg:https://prolog.ee/wp-content/uploads/2015/02/globallogistics_10.jpg
END:VEVENT
END:VCALENDAR