BEGIN:VCALENDAR
VERSION:2.0
PRODID:-//PROLOG - ECPv6.5.0.1//NONSGML v1.0//EN
CALSCALE:GREGORIAN
METHOD:PUBLISH
X-ORIGINAL-URL:https://prolog.ee
X-WR-CALDESC:Events for PROLOG
REFRESH-INTERVAL;VALUE=DURATION:PT1H
X-Robots-Tag:noindex
X-PUBLISHED-TTL:PT1H
BEGIN:VTIMEZONE
TZID:Europe/Tallinn
BEGIN:DAYLIGHT
TZOFFSETFROM:+0200
TZOFFSETTO:+0300
TZNAME:EEST
DTSTART:20250330T010000
END:DAYLIGHT
BEGIN:STANDARD
TZOFFSETFROM:+0300
TZOFFSETTO:+0200
TZNAME:EET
DTSTART:20251026T010000
END:STANDARD
BEGIN:DAYLIGHT
TZOFFSETFROM:+0200
TZOFFSETTO:+0300
TZNAME:EEST
DTSTART:20260329T010000
END:DAYLIGHT
BEGIN:STANDARD
TZOFFSETFROM:+0300
TZOFFSETTO:+0200
TZNAME:EET
DTSTART:20261025T010000
END:STANDARD
END:VTIMEZONE
BEGIN:VEVENT
DTSTART;TZID=Europe/Tallinn:20250205T000000
DTEND;TZID=Europe/Tallinn:20260531T235900
DTSTAMP:20260421T200415
CREATED:20250203T115008Z
LAST-MODIFIED:20250203T115248Z
UID:19545-1738713600-1780271940@prolog.ee
SUMMARY:Tarneahelajuhi arenguprogrammi mikrokraad
DESCRIPTION:Eesti Ettevõtluskõrgkooliga Mainor koostöös on võimalik Tarneahelajuhi arenguprogrammi läbinul taotleda akadeemilist mikrokraadi. Mikrokraad on üks osa Sinu eesmärgist hariduses järgmise sammu tegemisel. Mikrokraadi läbimise tingimuste kohta loe lähemalt allpool olevalt lingilt. Sama lingi kaudu saad ka ennast registreerida mikrokraadi kursusele. \nTarneahelajuhi arenguprogrammi mikrokraadi õppesse registreerimine toimub Eesti Ettevõtluskool Mainor kodulehel.
URL:https://prolog.ee/sundmused/tarneahelajuhi-arenguprogrammi-mikrokraad/
ATTACH;FMTTYPE=image/png:https://prolog.ee/wp-content/uploads/2025/01/Screenshot-2025-01-31-151903.png
END:VEVENT
BEGIN:VEVENT
DTSTART;TZID=Europe/Tallinn:20251101T080000
DTEND;TZID=Europe/Tallinn:20251215T170000
DTSTAMP:20260421T200415
CREATED:20251028T102739Z
LAST-MODIFIED:20251028T102739Z
UID:19703-1761984000-1765818000@prolog.ee
SUMMARY:Koolitus: tõstukid\, nende hooldus ja juhtimine 01.11.2025 - 15.12.2025
DESCRIPTION:Loe koolituse kohta lähemalt siit. \n 
URL:https://prolog.ee/sundmused/koolitus-tostukid-nende-hooldus-ja-juhtimine-01-11-2025-15-12-2025/
ATTACH;FMTTYPE=image/jpeg:https://prolog.ee/wp-content/uploads/2025/10/tostuk-scaled.jpg
END:VEVENT
BEGIN:VEVENT
DTSTART;TZID=Europe/Tallinn:20251113T144500
DTEND;TZID=Europe/Tallinn:20251113T170000
DTSTAMP:20260421T200415
CREATED:20251010T050514Z
LAST-MODIFIED:20251106T081429Z
UID:19693-1763045100-1763053200@prolog.ee
SUMMARY:PROLOG kutsub ettevõtte külastusele 13.novembril
DESCRIPTION:Seekord on vastuvõtjaks Smartposti\, mis on Baltikumi üks tuntumaid logistikaettevõtteid. Kaasaegse tehnoloogia abil võimaldab Smartposti ettevõtetel ja eraisikutel saata ja saada pakke lihtsalt ja mugavalt. \nKülastus algab kell 15.00\, koguneme 14.45  (Sinikivi tee 3\, Lehmja\, Rae vald\, 75326). \nOsalemiseks on vajalik registreerimine hiljemalt teisipäeva\, 11. novembri lõunaks.\nPalun täida registreerimisel kõik lahtrid. Smartposti vaatab osalejate nimekirja üle ning jätab endale õiguse teha nimekirjas muudatusi kooskõlas ettevõtte sisekorrareeglite ja ärisaladuse nõude hoidmisega. \n\n 
URL:https://prolog.ee/sundmused/ettevottekulastus13november/
LOCATION:Smartposti\, Sinikivi tee 3 Lehmja Rae vald 75326
ATTACH;FMTTYPE=image/png:https://prolog.ee/wp-content/uploads/2025/10/images.png
END:VEVENT
END:VCALENDAR