BEGIN:VCALENDAR
VERSION:2.0
PRODID:-//PROLOG - ECPv6.5.0.1//NONSGML v1.0//EN
CALSCALE:GREGORIAN
METHOD:PUBLISH
X-WR-CALNAME:PROLOG
X-ORIGINAL-URL:https://prolog.ee
X-WR-CALDESC:Events for PROLOG
REFRESH-INTERVAL;VALUE=DURATION:PT1H
X-Robots-Tag:noindex
X-PUBLISHED-TTL:PT1H
BEGIN:VTIMEZONE
TZID:Europe/Tallinn
BEGIN:DAYLIGHT
TZOFFSETFROM:+0200
TZOFFSETTO:+0300
TZNAME:EEST
DTSTART:20250330T010000
END:DAYLIGHT
BEGIN:STANDARD
TZOFFSETFROM:+0300
TZOFFSETTO:+0200
TZNAME:EET
DTSTART:20251026T010000
END:STANDARD
BEGIN:DAYLIGHT
TZOFFSETFROM:+0200
TZOFFSETTO:+0300
TZNAME:EEST
DTSTART:20260329T010000
END:DAYLIGHT
BEGIN:STANDARD
TZOFFSETFROM:+0300
TZOFFSETTO:+0200
TZNAME:EET
DTSTART:20261025T010000
END:STANDARD
END:VTIMEZONE
BEGIN:VEVENT
DTSTART;TZID=Europe/Tallinn:20250205T000000
DTEND;TZID=Europe/Tallinn:20260531T235900
DTSTAMP:20260422T041159
CREATED:20250203T115008Z
LAST-MODIFIED:20250203T115248Z
UID:19545-1738713600-1780271940@prolog.ee
SUMMARY:Tarneahelajuhi arenguprogrammi mikrokraad
DESCRIPTION:Eesti Ettevõtluskõrgkooliga Mainor koostöös on võimalik Tarneahelajuhi arenguprogrammi läbinul taotleda akadeemilist mikrokraadi. Mikrokraad on üks osa Sinu eesmärgist hariduses järgmise sammu tegemisel. Mikrokraadi läbimise tingimuste kohta loe lähemalt allpool olevalt lingilt. Sama lingi kaudu saad ka ennast registreerida mikrokraadi kursusele. \nTarneahelajuhi arenguprogrammi mikrokraadi õppesse registreerimine toimub Eesti Ettevõtluskool Mainor kodulehel.
URL:https://prolog.ee/sundmused/tarneahelajuhi-arenguprogrammi-mikrokraad/
ATTACH;FMTTYPE=image/png:https://prolog.ee/wp-content/uploads/2025/01/Screenshot-2025-01-31-151903.png
END:VEVENT
BEGIN:VEVENT
DTSTART;TZID=Europe/Tallinn:20250619T140000
DTEND;TZID=Europe/Tallinn:20250619T170000
DTSTAMP:20260422T041159
CREATED:20250604T062639Z
LAST-MODIFIED:20250612T125311Z
UID:19617-1750341600-1750352400@prolog.ee
SUMMARY:Prolog üldkoosolek 19.juunil
DESCRIPTION:PROLOG üldkoosolek 19. juunil kell 14:00 \nPäevakord:\n1. Juhatuse 2024.a. tegevusaruande ja majandusaruande kinnitamine\n2. Juhatuse 2025.a. tegevuskava ja eelarve kinnitamine\n3. Jooksvad küsimused\n4. Seminar logistikahariduse teemadel ja võrgustumine. Seminar algab 15.30. \nLogistikahariduse seminaril arutleme muuhulgas näiteks teemal\, mida logistikasektor hariduselt ootab\, kuidas tööelu ja kutsehariduse koostööst rohkem väärtust saada ning mida peaks kutsehariduse andmisel tegema teisiti. \nÜldkoosolekul ja sellele järgneval seminaril osalemiseks on vajalik eelnev registreerimine. \nPalume oma osalemisest anda teada hiljemalt 13. juunil. \nÜldkoosolek toimub Neitsitorni 4. korruse saalis ( Lühike jalg 9A. 10130\, Tallinn). \n\n 
URL:https://prolog.ee/sundmused/prolog-uldkoosolek-19-juunil/
LOCATION:Neitsitorn\, Lühike jalg 9a\, Tallinn\, Eesti
ATTACH;FMTTYPE=image/jpeg:https://prolog.ee/wp-content/uploads/2015/02/p-project1-03.jpg
END:VEVENT
BEGIN:VEVENT
DTSTART;TZID=Europe/Tallinn:20250619T153000
DTEND;TZID=Europe/Tallinn:20250619T170000
DTSTAMP:20260422T041159
CREATED:20250609T070030Z
LAST-MODIFIED:20250612T125337Z
UID:19625-1750347000-1750352400@prolog.ee
SUMMARY:Logistikahariduse seminar 19.juunil kell 15.30
DESCRIPTION:Seminar logistikahariduse teemadel \nLogistikahariduse seminaril arutleme muuhulgas näiteks teemadel\, mida logistikasektor hariduselt ootab\, kuidas tööelu ja kutsehariduse koostööst rohkem väärtust saada ning mida peaks kutsehariduse andmisel tegema teisiti. \nSeminaril osalemiseks on vajalik eelnev registreerimine. \nPalume oma osalemisest anda teada hiljemalt 13. juunil. \nSeminar toimub Neitsitorni 4. korruse saalis ( Lühike jalg 9A. 10130\, Tallinn).
URL:https://prolog.ee/sundmused/logistikahariduse-seminar-19-juunil-kell-15-30/
LOCATION:Neitsitorn\, Lühike jalg 9a\, Tallinn\, Eesti
ATTACH;FMTTYPE=image/jpeg:https://prolog.ee/wp-content/uploads/2015/02/p-project1-01.jpg
END:VEVENT
END:VCALENDAR