BEGIN:VCALENDAR
VERSION:2.0
PRODID:-//PROLOG - ECPv6.5.0.1//NONSGML v1.0//EN
CALSCALE:GREGORIAN
METHOD:PUBLISH
X-ORIGINAL-URL:https://prolog.ee
X-WR-CALDESC:Events for PROLOG
REFRESH-INTERVAL;VALUE=DURATION:PT1H
X-Robots-Tag:noindex
X-PUBLISHED-TTL:PT1H
BEGIN:VTIMEZONE
TZID:Europe/Tallinn
BEGIN:DAYLIGHT
TZOFFSETFROM:+0200
TZOFFSETTO:+0300
TZNAME:EEST
DTSTART:20240331T010000
END:DAYLIGHT
BEGIN:STANDARD
TZOFFSETFROM:+0300
TZOFFSETTO:+0200
TZNAME:EET
DTSTART:20241027T010000
END:STANDARD
END:VTIMEZONE
BEGIN:VEVENT
DTSTART;TZID=Europe/Tallinn:20240612T150000
DTEND;TZID=Europe/Tallinn:20240612T180000
DTSTAMP:20260423T000948
CREATED:20240610T054348Z
LAST-MODIFIED:20240610T055549Z
UID:19383-1718204400-1718215200@prolog.ee
SUMMARY:PROLOG üldkoosolek 12. juunil kell 15:00
DESCRIPTION:Päevakord:\n1. Juhatuse 2023.a. tegevusaruande ja majandusaruande kinnitamine\n2. Juhatuse 2024.a. tegevuskava ja eelarve kinnitamine\n3. Juhatuse valimine\n4. Jooksvad küsimused \nÜldkoosolekule järgneb suveseminar\, milles käsitleme meie ekpordiklientide ootusi ja nõudeid tarnijatele. Seminariga alustame kell 16:30.\nÜldkoosolekul osalemiseks on vajalik eelnev registreerimine. Palume oma osalemisest anda teada eposti teel info@prolog.ee hiljemalt 10. juunil. \nÜldkoosolek toimub juba traditsiooniks saanud Neitsitornis (Lühike jalg 9a\, Tallinn).
URL:https://prolog.ee/sundmused/prolog-uldkoosolek-12-juunil-kell-1500/
LOCATION:Neitsitorn\, Lühike jalg 9a\, Tallinn\, Eesti
CATEGORIES:Eesootavad üritused,Möödunud üritused,Üritus
ATTACH;FMTTYPE=image/jpeg:https://prolog.ee/wp-content/uploads/2015/02/b-inspired-by-italian-lifestyle.jpg
END:VEVENT
END:VCALENDAR