BEGIN:VCALENDAR
VERSION:2.0
PRODID:-//PROLOG - ECPv6.5.0.1//NONSGML v1.0//EN
CALSCALE:GREGORIAN
METHOD:PUBLISH
X-WR-CALNAME:PROLOG
X-ORIGINAL-URL:https://prolog.ee
X-WR-CALDESC:Events for PROLOG
REFRESH-INTERVAL;VALUE=DURATION:PT1H
X-Robots-Tag:noindex
X-PUBLISHED-TTL:PT1H
BEGIN:VTIMEZONE
TZID:Europe/Tallinn
BEGIN:DAYLIGHT
TZOFFSETFROM:+0200
TZOFFSETTO:+0300
TZNAME:EEST
DTSTART:20240331T010000
END:DAYLIGHT
BEGIN:STANDARD
TZOFFSETFROM:+0300
TZOFFSETTO:+0200
TZNAME:EET
DTSTART:20241027T010000
END:STANDARD
END:VTIMEZONE
BEGIN:VEVENT
DTSTART;TZID=Europe/Tallinn:20240514T080000
DTEND;TZID=Europe/Tallinn:20240516T170000
DTSTAMP:20260423T020149
CREATED:20240402T124725Z
LAST-MODIFIED:20240426T080747Z
UID:19332-1715673600-1715878800@prolog.ee
SUMMARY:Noor Meister 2024. Laotöötaja kutsemeistrivõistlus 14 - 15.mail
DESCRIPTION:Kutsume teid osa saama 14.–15.mail Eesti Näituste messikeskuses toimuvast kutsehariduse suursündmusest oskuste festival „Noor Meister 2024“\, mis toob kokku paarkümmend eriilmelist ja põnevat kutsemeistrivõistlust\, kus panevad end proovile andekad kutseõppurid üle kogu Eesti. Kutsekoolid tutvustavad oma tegemisi läbi töötubade\, pakkudes tegevusi igas vanuses festivalikülalistele! \nOskuste festivali ja töötubade taustal toimub mõlemal päeval paaritunnine seminar “Kuidas elad\, kutseharidus?” \nSeminarile ootame erialaliitude ja ettevõtete esindajaid\, praktikajuhendajaid\, võistlejate juhendajaid\, kutseõpetajaid\, karjäärispetsialiste\, üldhariduskoolide õpetajaid\, koolijuhte ja kõik huvilisi\, kes on tee messihalli leidnud. \n14.mai\n14:00 – 14:30 Kogu tõde kutsevõistlustest – Tiiu Parm\, Harno\n14:30 – 15:00 Kutseõppe kvaliteet – kellele seda vaja on? – Marge Kroonmäe\, HAKA\n15:00 – 15:30 Praktika ja töökohapõhine õpe kutsehariduses – Piret Lilover\, Harno\n15:30 – 16:00 Uuendused IT- ja inseneeriavaldkonna kutsekeskhariduses – senine kogemus ja tulevik – Signe Ambre\, Harno \n15.mai\n13:00 – 13:30 Mis võimalusi pakud\, kutseharidus? – Aulika Riisenberg/Marit Kuusk\, HTM\n13:30 – 14:00 Kutseeksamid – miks\, kellele ja kes lõikab kasu? – Tiia Randma\, Kutsekoda\n14:00 – 14:30 Haridustasemete vaheline koostöö – Raino Liblik\, Tallinna Mustamäe Riigigümnaasium\n14:30 – 15:00 Kuhu liigud\, kutseharidus? – Triin Laasi-Õige\, HTM \nTulge ja imetlege oma valdkonna tulevikutegijaid ning rääkige kaasa kutsehariduse teemadel! \nAnna palun oma tulekust hiljemalt 8.maiks märku siin.
URL:https://prolog.ee/sundmused/noor-meister-2024-laotootaja-kutsemeistrivoistlus-13-15-mail/
END:VEVENT
BEGIN:VEVENT
DTSTART;TZID=Europe/Tallinn:20240515T123000
DTEND;TZID=Europe/Tallinn:20240515T183000
DTSTAMP:20260423T020149
CREATED:20240510T105640Z
LAST-MODIFIED:20240510T105640Z
UID:19362-1715776200-1715797800@prolog.ee
SUMMARY:15.05 PROLOG koos LiMOWA ( FI) klastriga Tallinnas Euroopa Logistika Innovatsioonivõrgustiku kohtumine.
DESCRIPTION:15.05 korraldab PROLOG koos LiMOWA ( FI) klastriga Tallinnas Euroopa Logistika Innovatsioonivõrgustiku kohtumise. \nOrienteeruv päevakava:\n12.45 Kogunemine ja kerge lõuna Ülemiste Citys\n13.15 Tervitused ja avakõned\n13.30 – 15.00 e Estonia Showroomis eEesti tutvustus Bussiga Rail Baltikasse\n15.15- 15.45 Rail Baltica tutvustus ja diskussioon\n16.00 Seminar/ koosolek : Transpordi digitaliseerimine eFTi\, eCMR ja muud teemad\n18.30 Seminari lõpp \nOsalemise huvi korral palun kirjutage info@prolog.ee.
URL:https://prolog.ee/sundmused/15-05-prolog-koos-limowa-fi-klastriga-tallinnas-euroopa-logistika-innovatsioonivorgustiku-kohtumine/
END:VEVENT
END:VCALENDAR