BEGIN:VCALENDAR
VERSION:2.0
PRODID:-//PROLOG - ECPv6.5.0.1//NONSGML v1.0//EN
CALSCALE:GREGORIAN
METHOD:PUBLISH
X-WR-CALNAME:PROLOG
X-ORIGINAL-URL:https://prolog.ee
X-WR-CALDESC:Events for PROLOG
REFRESH-INTERVAL;VALUE=DURATION:PT1H
X-Robots-Tag:noindex
X-PUBLISHED-TTL:PT1H
BEGIN:VTIMEZONE
TZID:Europe/Tallinn
BEGIN:DAYLIGHT
TZOFFSETFROM:+0200
TZOFFSETTO:+0300
TZNAME:EEST
DTSTART:20240331T010000
END:DAYLIGHT
BEGIN:STANDARD
TZOFFSETFROM:+0300
TZOFFSETTO:+0200
TZNAME:EET
DTSTART:20241027T010000
END:STANDARD
END:VTIMEZONE
BEGIN:VEVENT
DTSTART;TZID=Europe/Tallinn:20240118T080000
DTEND;TZID=Europe/Tallinn:20240119T170000
DTSTAMP:20260425T150819
CREATED:20231207T102240Z
LAST-MODIFIED:20231207T102741Z
UID:19198-1705564800-1705683600@prolog.ee
SUMMARY:18-19.01.2024 IV moodul hanke ja ostuprotsesside juhtimine\, koolitaja Peep Tomingas
DESCRIPTION:Hankeprotsessi juhtimisel käsitleme tarnijate valikuid\, tarnelepingute sõlmimist\, tarnijate hindamist ja tarnijasuhete arendamist. Ostuprotsessi juhtimisel räägime standardiseerimisest\, tsentraliseerimisest ja automatiseerimisest. Hanke- ja ostutegevused on globaalsed. \n\n 
URL:https://prolog.ee/sundmused/tarneahela-akadeemia-iv-moodul-18-19-01-2024-hanke-ja-ostuprotsesside-juhtimine-koolitaja-peep-tomingas/
ATTACH;FMTTYPE=image/png:https://prolog.ee/wp-content/uploads/2022/03/260261677_123501423458587_6388976415137990224_n.png
END:VEVENT
END:VCALENDAR