BEGIN:VCALENDAR
VERSION:2.0
PRODID:-//PROLOG - ECPv6.5.0.1//NONSGML v1.0//EN
CALSCALE:GREGORIAN
METHOD:PUBLISH
X-WR-CALNAME:PROLOG
X-ORIGINAL-URL:https://prolog.ee
X-WR-CALDESC:Events for PROLOG
REFRESH-INTERVAL;VALUE=DURATION:PT1H
X-Robots-Tag:noindex
X-PUBLISHED-TTL:PT1H
BEGIN:VTIMEZONE
TZID:Europe/Tallinn
BEGIN:DAYLIGHT
TZOFFSETFROM:+0200
TZOFFSETTO:+0300
TZNAME:EEST
DTSTART:20230326T010000
END:DAYLIGHT
BEGIN:STANDARD
TZOFFSETFROM:+0300
TZOFFSETTO:+0200
TZNAME:EET
DTSTART:20231029T010000
END:STANDARD
END:VTIMEZONE
BEGIN:VEVENT
DTSTART;TZID=Europe/Tallinn:20231114T163000
DTEND;TZID=Europe/Tallinn:20231114T180000
DTSTAMP:20260425T183103
CREATED:20231102T132528Z
LAST-MODIFIED:20231102T140230Z
UID:19114-1699979400-1699984800@prolog.ee
SUMMARY:Logistikaklubi 14. novembril
DESCRIPTION:Hea Prologi liige! \nKutsume sind 14. novembril toimuvale Prologi logistikaklubi üritusele.\nEsimeseks külaliseks on Prologi tarneahelakonverentsil väga sooja vastuvõtu saanud majandus-\, transpordi ja liikuvusanalüütik Peeter Tammistu. Vestluses loodame leida vastuse küsimusele\, kuidas olla võitja tänastes ja homsetes konkurentsitingimustes. \nKohapeale tulnud kuulajatel on võimalik esitada küsimusi nii külalisele kui ka vestluses osalevatele Prologi juhatuse liikmetele. \nLogistikaklubi üritus toimub Nordic Hotel Forum kaminasaalis 14. novembril ning osalemiseks on vajalik eelnev registreerimine hiljemalt 12.novembriks. Alustame kell 16.30.\nOtseülekannet vestlusest ei toimu. Esinejate vestlust salvestatakse. \n\nKohtumiseni 14. novembril!
URL:https://prolog.ee/sundmused/logistikaklubi-14-novembril/
ATTACH;FMTTYPE=image/png:https://prolog.ee/wp-content/uploads/2018/02/logistikaklubi-logo.png
END:VEVENT
END:VCALENDAR