BEGIN:VCALENDAR
VERSION:2.0
PRODID:-//PROLOG - ECPv6.5.0.1//NONSGML v1.0//EN
CALSCALE:GREGORIAN
METHOD:PUBLISH
X-ORIGINAL-URL:https://prolog.ee
X-WR-CALDESC:Events for PROLOG
REFRESH-INTERVAL;VALUE=DURATION:PT1H
X-Robots-Tag:noindex
X-PUBLISHED-TTL:PT1H
BEGIN:VTIMEZONE
TZID:Europe/Tallinn
BEGIN:DAYLIGHT
TZOFFSETFROM:+0200
TZOFFSETTO:+0300
TZNAME:EEST
DTSTART:20230326T010000
END:DAYLIGHT
BEGIN:STANDARD
TZOFFSETFROM:+0300
TZOFFSETTO:+0200
TZNAME:EET
DTSTART:20231029T010000
END:STANDARD
END:VTIMEZONE
BEGIN:VEVENT
DTSTART;TZID=Europe/Tallinn:20230613T144500
DTEND;TZID=Europe/Tallinn:20230613T173000
DTSTAMP:20260426T033039
CREATED:20230527T195127Z
LAST-MODIFIED:20230530T132609Z
UID:19032-1686667500-1686677400@prolog.ee
SUMMARY:PROLOG üldkoosolek 13. juunil kell 15:00 Tallinnas\, Neitsitornis
DESCRIPTION:Päevakord:\n1. Juhatuse 2022.a. tegevusaruande ja majandusaruande kinnitamine\n2. Juhatuse 2023.a. tegevuskava ja eelarve kinnitamine\n3. Jooksvad küsimused \nÜldkoosolekule järgneb seminar algusega 16:30\, kus PROLOG´i juhatuse liige Jaanus Krull annab ülevaate nõuetest tarneahela läbipaistvusesele EU regulatsioonide ja Saksa tarneahelaseaduse valguses. Arutleme\, kuidas tagada\, et tooted ei sisalda sunnitööd või sanktsioonide alla kuuluvaid detaile. \nÜldkoosolekul osalemiseks on vajalik eelnev registreerimine. \n\nKohtumispaik on Neitsitorn (Lühike jalg 9A\, Tallinn).
URL:https://prolog.ee/sundmused/prolog-uldkoosolek-13-juunil-tallinnas/
LOCATION:Tallinn
CATEGORIES:Eesootavad üritused
ATTACH;FMTTYPE=image/jpeg:https://prolog.ee/wp-content/uploads/2015/02/p-project1-031.jpg
END:VEVENT
END:VCALENDAR