BEGIN:VCALENDAR
VERSION:2.0
PRODID:-//PROLOG - ECPv6.5.0.1//NONSGML v1.0//EN
CALSCALE:GREGORIAN
METHOD:PUBLISH
X-ORIGINAL-URL:https://prolog.ee
X-WR-CALDESC:Events for PROLOG
REFRESH-INTERVAL;VALUE=DURATION:PT1H
X-Robots-Tag:noindex
X-PUBLISHED-TTL:PT1H
BEGIN:VTIMEZONE
TZID:Europe/Tallinn
BEGIN:DAYLIGHT
TZOFFSETFROM:+0200
TZOFFSETTO:+0300
TZNAME:EEST
DTSTART:20230326T010000
END:DAYLIGHT
BEGIN:STANDARD
TZOFFSETFROM:+0300
TZOFFSETTO:+0200
TZNAME:EET
DTSTART:20231029T010000
END:STANDARD
END:VTIMEZONE
BEGIN:VEVENT
DTSTART;TZID=Europe/Tallinn:20230518T080000
DTEND;TZID=Europe/Tallinn:20230519T170000
DTSTAMP:20260426T052142
CREATED:20220629T190125Z
LAST-MODIFIED:20220629T190211Z
UID:18196-1684396800-1684515600@prolog.ee
SUMMARY:18-19.05.2023 Tarneahela akadeemia VIII moodul: kvaliteet. Koolitaja Anneli Reinok
DESCRIPTION:1 päev. Tutvume kvaliteedijuhtimise olemusega. Saame teada\, mis on kvaliteedinäitajad ja kuidas mõõta kvaliteeti. Käsitleme kliendisuhete juhtimist\, klienditeeninduse strateegiat. Õpime kuidas mõõta kliendi teenindustaset ja arvutada tarnevõimet\, -täpsust ja -kindlust.  Uurime\, millised vealiigid esinevad logistika valdkonnas ja millised võivad olla nende tagajärjed. \n2 päev. Tutvume kvaliteedijuhtimise tööriistadega. Vaatame kuidas kaardistatakse ja seiratakse protsesse. Tutvume kvaliteedikulude määramise PAF mudeliga ja tõrgete liigi ning mõju analüüsiga. Õpime kasutama statistilisi meetodeid andmete analüüsimiseks ja esitlemiseks. Teeme praktiliselt läbi ühe probleemlahenduse rühmatööna kasutades erinevaid metoodikaid.
URL:https://prolog.ee/sundmused/18-19-05-2023-tarneahela-akadeemia-viii-moodul-kvaliteet-koolitaja-anneli-reinok/
END:VEVENT
BEGIN:VEVENT
DTSTART;TZID=Europe/Tallinn:20230518T080000
DTEND;TZID=Europe/Tallinn:20230519T170000
DTSTAMP:20260426T052142
CREATED:20230510T074506Z
LAST-MODIFIED:20230515T075747Z
UID:19016-1684396800-1684515600@prolog.ee
SUMMARY:18-19.05.2023 Tarneahela akadeemia VIII moodul: kvaliteet. Koolitaja Anneli Reinok. Töökohapõhise õppe registreerimine.
DESCRIPTION:Tutvume kvaliteedijuhtimise olemusega. Saame teada\, mis on kvaliteedinäitajad ja kuidas mõõta kvaliteeti. Käsitleme kliendisuhete juhtimist\, klienditeeninduse strateegiat. Õpime kuidas mõõta kliendi teenindustaset ja arvutada tarnevõimet\, -täpsust ja -kindlust. Uurime\, millised vealiigid esinevad logistika valdkonnas ja millised võivad olla nende tagajärjed. \nTutvume kvaliteedijuhtimise tööriistadega. Vaatame kuidas kaardistatakse ja seiratakse protsesse. Tutvume kvaliteedikulude määramise PAF mudeliga ja tõrgete liigi ning mõju analüüsiga. Õpime kasutama statistilisi meetodeid andmete analüüsimiseks ja esitlemiseks. Teeme praktiliselt läbi ühe probleemlahenduse rühmatööna kasutades erinevaid metoodikaid. \nRegistreerimine on avatud kuni 15. mai kell 17.00.
URL:https://prolog.ee/sundmused/18-19-05-2023-tarneahela-akadeemia-viii-moodul-kvaliteet-koolitaja-anneli-reinok-tookohapohise-oppe-registreerimine/
END:VEVENT
END:VCALENDAR