BEGIN:VCALENDAR
VERSION:2.0
PRODID:-//PROLOG - ECPv6.5.0.1//NONSGML v1.0//EN
CALSCALE:GREGORIAN
METHOD:PUBLISH
X-WR-CALNAME:PROLOG
X-ORIGINAL-URL:https://prolog.ee/en/
X-WR-CALDESC:Events for PROLOG
REFRESH-INTERVAL;VALUE=DURATION:PT1H
X-Robots-Tag:noindex
X-PUBLISHED-TTL:PT1H
BEGIN:VTIMEZONE
TZID:Europe/Tallinn
BEGIN:DAYLIGHT
TZOFFSETFROM:+0200
TZOFFSETTO:+0300
TZNAME:EEST
DTSTART:20260329T010000
END:DAYLIGHT
BEGIN:STANDARD
TZOFFSETFROM:+0300
TZOFFSETTO:+0200
TZNAME:EET
DTSTART:20261025T010000
END:STANDARD
END:VTIMEZONE
BEGIN:VEVENT
DTSTART;TZID=Europe/Tallinn:20260325T080000
DTEND;TZID=Europe/Tallinn:20260325T170000
DTSTAMP:20260419T200218
CREATED:20260212T182749Z
LAST-MODIFIED:20260212T183104Z
UID:20185-1774425600-1774458000@prolog.ee
SUMMARY:Training: Procurement in a BANI World\, trainer João Correia Botelho
DESCRIPTION:Topics covered: \n\nViewing the procurement process as a value-creating factor for the entire company\nCollaborating with suppliers to create new solutions\nTelling the story of the procurement process in a way that gains management support\nUsing risk to find new opportunities and strengthen the company\nLearning from the ideas and practices of other industries\nWhy ethics and transparency are important in the procurement process\nPreparing procurement teams for future challenges\n\nTarget audience for the training: \n\nProcurement specialists\nCategory managers\nSenior buyers\nSupply chain specialists involved in procurement decision-making\n\n \n  \n  \n  \n  \n  \n  \n  \n  \n  \nYou can read more about the training here: https://vucatobani.training/ \nTrainer João Botelho is the President of the Portuguese Procurement Association and an international consultant specializing in strategic sourcing\, sustainable procurement\, procurement process transformation\, and cost optimization initiatives.\nWith over 20 years of experience\, he has successfully led high-impact projects across Europe\, Asia\, and the Middle East\, advising global companies and top executives on building resilient and future-ready procurement organizations. João is a frequent keynote speaker at procurement conferences across Europe\, where he shares practical insights and best practices to help professionals achieve results. \nParticipation fee\n• Price for 1 participant: €399\n• Price for 2 or more participants: €349 per participant\n• Discounted price for PROLOG members: €299\nVAT will be added to the prices. \nIf you are attending the Prolog International Supply Chain Conference and would also like to participate in the training\, please contact us for a quote. \nPlease register your interest via email at info@prolog.ee.
URL:https://prolog.ee/en/sundmused/training-procurement-in-a-bani-world-trainer-joao-correia-botelho/
ATTACH;FMTTYPE=image/png:https://prolog.ee/wp-content/uploads/2026/02/2024_10_31_1_Fundo-Branco-253.png
END:VEVENT
END:VCALENDAR